BEGIN:VCALENDAR
VERSION:2.0
PRODID:-//DGhK RV Hessen e.V. - ECPv6.15.17.1//NONSGML v1.0//EN
CALSCALE:GREGORIAN
METHOD:PUBLISH
X-ORIGINAL-URL:https://sandbox.dghk-hessen.de
X-WR-CALDESC:Veranstaltungen für DGhK RV Hessen e.V.
REFRESH-INTERVAL;VALUE=DURATION:PT1H
X-Robots-Tag:noindex
X-PUBLISHED-TTL:PT1H
BEGIN:VTIMEZONE
TZID:Europe/Berlin
BEGIN:DAYLIGHT
TZOFFSETFROM:+0100
TZOFFSETTO:+0200
TZNAME:CEST
DTSTART:20240331T010000
END:DAYLIGHT
BEGIN:STANDARD
TZOFFSETFROM:+0200
TZOFFSETTO:+0100
TZNAME:CET
DTSTART:20241027T010000
END:STANDARD
BEGIN:DAYLIGHT
TZOFFSETFROM:+0100
TZOFFSETTO:+0200
TZNAME:CEST
DTSTART:20250330T010000
END:DAYLIGHT
BEGIN:STANDARD
TZOFFSETFROM:+0200
TZOFFSETTO:+0100
TZNAME:CET
DTSTART:20251026T010000
END:STANDARD
BEGIN:DAYLIGHT
TZOFFSETFROM:+0100
TZOFFSETTO:+0200
TZNAME:CEST
DTSTART:20260329T010000
END:DAYLIGHT
BEGIN:STANDARD
TZOFFSETFROM:+0200
TZOFFSETTO:+0100
TZNAME:CET
DTSTART:20261025T010000
END:STANDARD
END:VTIMEZONE
BEGIN:VEVENT
DTSTART;TZID=Europe/Berlin:20250625T183000
DTEND;TZID=Europe/Berlin:20250625T193000
DTSTAMP:20260421T171522
CREATED:20250606T102645Z
LAST-MODIFIED:20250606T115323Z
UID:10000431-1750876200-1750879800@sandbox.dghk-hessen.de
SUMMARY:Der Teenager-GK SAFE SPACE - Viertklässler-Edition
DESCRIPTION:Der Teenager-Gesprächskreis SAFE Space lädt Viertklässler ein! \n\n\n\nNur für Vereinsmitglieder. \n\n\n\nLiebe Viertklässler! \n\n\n\nStellt uns Eure Fragen zu Eurem bevorstehenden Schulwechsel.Wir\, Teilnehmende des Teenager-Gesprächskreises im Alter von 11 bis 15 Jahren\, erzählen Euch\, wie es bei uns so war und geben Euch gern Tipps. \n\n\n\nLiebe Eltern der Viertklässler\, \n\n\n\ndie Teilnehmenden unseres Teenager-Gesprächskreises haben sich an ihren eigenen Übertritt in die weiterführende Schule erinnert und fanden\, dass es ihnen echt geholfen hätte\, ältere Ansprechpartner/innen für ihre Fragen zu haben. Bitte meldet Eure Kinder an\, wenn sie die Einladung unseres Teenager-GK annehmen möchten. Während der Veranstaltung müsstet Ihr bitte in der Nähe Eurer Viertklässler bleiben\, damit Ihr helfen könnt beim Beschriften des virtuellen Namensschilds\, Melden\, Mikro an/aus etc. \n\n\n\nAuf Eure Anmeldungen freuen sich die Teenager vom SAFE SPACE GK und Anja Thiemann. \n\n\n\nDamit wir alle in einer vertrauensvollen und respektvollen Atmosphäre miteinander sprechen können\, beachtet bitte folgende Regeln: \n\n\n\n\nKamera einschalten: Die Teilnahme erfolgt mit eingeschalteter Kamera und gut sichtbarer teilnehmenden Person\, damit wir ein persönliches Gesprächsgefühl schaffen können.\n\n\n\nVorname als Nutzername: Bitte verwendet mindestens Euren Vornamen als Anzeige-Namen\, damit wir uns gegenseitig ansprechen können.\n\n\n\nKeine Aufzeichnungen: Bild- oder Tonaufnahmen während des Gesprächs sind nicht gestattet\, um die Vertraulichkeit zu gewährleisten.\n\n\n\nVertraulichkeit und Verschwiegenheit: Wir legen großen Wert auf gegenseitiges Vertrauen. Daher sichern wir uns zu\, dass sensible Inhalte\, insbesondere gesundheitliche und persönliche Daten\, nicht außerhalb der Gruppe geteilt werden. Ebenso werden keine Informationen in Verbindung mit bestimmten Personen weitergegeben.\n\n\n\n\nWir danken Euch für Euer Verständnis und Eure Unterstützung\, um einen sicheren Raum für alle zu schaffen! \n\n\n\nZur besseren Vernetzung dürfen die Teilnehmenden ihre Kontaktdaten (Handynummer) austauschen.  \n\n\n\nWer teilnehmen möchte\, kann sich über das Online-Anmeldeformular anmelden. Anmeldeschluss ist 16 Uhr am Tag des Gesprächskreises. Bitte zum Nachweis der Mitgliedschaft die Mitgliedsnummer angeben! Ohne korrekte Mitgliedsnummer ist eine Teilnahme leider nicht möglich. Den Zoom-Link versenden wir am Nachmittag vor dem Gesprächskreis. \n\n\n\n\n\n\n\nSolltet Ihr nach der Anmeldung unerwartet verhindert sein\, sagt Eure Teilnahme bitte ab! \n\n\n\nWir freuen uns auf Euch!
URL:https://sandbox.dghk-hessen.de/event/der-teenager-gk-safe-space-viertklaessler-edition/
LOCATION:Online
CATEGORIES:Gesprächskreis
ATTACH;FMTTYPE=image/jpeg:https://sandbox.dghk-hessen.de/wp-content/uploads/2025/06/Aurelia_Kosmos_A4_2025.jpg
ORGANIZER;CN="Veranstaltungsteam DGhK Hessen":MAILTO:Veranstaltung@dghk-hessen.de
END:VEVENT
BEGIN:VEVENT
DTSTART;TZID=Europe/Berlin:20250625T193000
DTEND;TZID=Europe/Berlin:20250625T210000
DTSTAMP:20260421T171522
CREATED:20250606T100649Z
LAST-MODIFIED:20250606T103024Z
UID:10000430-1750879800-1750885200@sandbox.dghk-hessen.de
SUMMARY:Der Teenager-GK SAFE SPACE
DESCRIPTION:Teenies unter sich \n\n\n\nNur für Vereinsmitglieder. \n\n\n\nTeenies zwischen 11 und 15 Jahren können sich hier miteinander vernetzen\, Erfahrungen austauschen und neue Freundschaften knüpfen. Wie in allen Gesprächskreisen entscheiden die Teilnehmerinnen und Teilnehmer über die Themen. Auch der Austausch über manch schwierige Situation in der Schule ist hier explizit erlaubt und erwünscht. \n\n\n\nDer Gesprächskreis findet online über Zoom statt und wird moderiert von Saskia Baisch-Zimmer\, Berufsschullehrerin und Fachbuchautorin. \n\n\n\nDamit wir alle in einer vertrauensvollen und respektvollen Atmosphäre miteinander sprechen können\, beachtet bitte folgende Regeln: \n\n\n\n\nKamera einschalten: Die Teilnahme erfolgt mit eingeschalteter Kamera und gut sichtbarer teilnehmenden Person\, damit wir ein persönliches Gesprächsgefühl schaffen können.\n\n\n\nVorname als Nutzername: Bitte verwendet mindestens Euren Vornamen als Anzeige-Namen\, damit wir uns gegenseitig ansprechen können.\n\n\n\nKeine Aufzeichnungen: Bild- oder Tonaufnahmen während des Gesprächs sind nicht gestattet\, um die Vertraulichkeit zu gewährleisten.\n\n\n\nVertraulichkeit und Verschwiegenheit: Wir legen großen Wert auf gegenseitiges Vertrauen. Daher sichern wir uns zu\, dass sensible Inhalte\, insbesondere gesundheitliche und persönliche Daten\, nicht außerhalb der Gruppe geteilt werden. Ebenso werden keine Informationen in Verbindung mit bestimmten Personen weitergegeben.\n\n\n\n\nWir danken Euch für Euer Verständnis und Eure Unterstützung\, um einen sicheren Raum für alle zu schaffen! \n\n\n\nZur besseren Vernetzung dürfen die Teilnehmenden ihre Kontaktdaten (Handynummer) austauschen.  \n\n\n\nWer teilnehmen möchte\, kann sich über das Online-Anmeldeformular anmelden. Anmeldeschluss ist 16 Uhr am Tag des Gesprächskreises. Bitte zum Nachweis der Mitgliedschaft die Mitgliedsnummer angeben! Ohne korrekte Mitgliedsnummer ist eine Teilnahme leider nicht möglich. Den Zoom-Link versenden wir am Nachmittag vor dem Gesprächskreis. \n\n\n\n\n\n\n\nSolltet Ihr nach der Anmeldung unerwartet verhindert sein\, sagt Eure Teilnahme bitte ab! \n\n\n\nIch freue mich auf Euch! \n\n\n\nSaskia Baisch-Zimmer
URL:https://sandbox.dghk-hessen.de/event/der-teenager-gespraechskreis-safe-space/
LOCATION:Online
CATEGORIES:Gesprächskreis
ATTACH;FMTTYPE=image/jpeg:https://sandbox.dghk-hessen.de/wp-content/uploads/2025/06/Aurelia_Kosmos_A4_2025.jpg
ORGANIZER;CN="Saskia Baisch-Zimmer":MAILTO:Baisch-Zimmer@dghk-hessen.de
END:VEVENT
END:VCALENDAR