BEGIN:VCALENDAR
VERSION:2.0
PRODID:-//DGhK RV Hessen e.V. - ECPv6.15.17.1//NONSGML v1.0//EN
CALSCALE:GREGORIAN
METHOD:PUBLISH
X-WR-CALNAME:DGhK RV Hessen e.V.
X-ORIGINAL-URL:https://sandbox.dghk-hessen.de
X-WR-CALDESC:Veranstaltungen für DGhK RV Hessen e.V.
REFRESH-INTERVAL;VALUE=DURATION:PT1H
X-Robots-Tag:noindex
X-PUBLISHED-TTL:PT1H
BEGIN:VTIMEZONE
TZID:Europe/Berlin
BEGIN:DAYLIGHT
TZOFFSETFROM:+0100
TZOFFSETTO:+0200
TZNAME:CEST
DTSTART:20240331T010000
END:DAYLIGHT
BEGIN:STANDARD
TZOFFSETFROM:+0200
TZOFFSETTO:+0100
TZNAME:CET
DTSTART:20241027T010000
END:STANDARD
BEGIN:DAYLIGHT
TZOFFSETFROM:+0100
TZOFFSETTO:+0200
TZNAME:CEST
DTSTART:20250330T010000
END:DAYLIGHT
BEGIN:STANDARD
TZOFFSETFROM:+0200
TZOFFSETTO:+0100
TZNAME:CET
DTSTART:20251026T010000
END:STANDARD
BEGIN:DAYLIGHT
TZOFFSETFROM:+0100
TZOFFSETTO:+0200
TZNAME:CEST
DTSTART:20260329T010000
END:DAYLIGHT
BEGIN:STANDARD
TZOFFSETFROM:+0200
TZOFFSETTO:+0100
TZNAME:CET
DTSTART:20261025T010000
END:STANDARD
END:VTIMEZONE
BEGIN:VEVENT
DTSTART;TZID=Europe/Berlin:20250516T143000
DTEND;TZID=Europe/Berlin:20250516T170000
DTSTAMP:20260421T185758
CREATED:20250311T223040Z
LAST-MODIFIED:20250516T110444Z
UID:10000393-1747405800-1747414800@sandbox.dghk-hessen.de
SUMMARY:Führung durch das ESA-Satellitenkontrollzentrum Darmstadt
DESCRIPTION:Für Kinder (ab zehn Jahren) und Jugendliche  der Lokalgruppe Frankfurt und Umland \n\n\n\nPanorama of the Main Control Room at ESOC\, ESA’s European Space Operations Centre\, Darmstadt\, Germany\, taken in 2012.\n\nPhoto: ©ESA/J. Mai\n\n\n\nWir haben für die Kinder und Jugendlichen unserer Lokalgruppe zwei individuelle Gruppenführungen durch das ESA-Satellitenkontrollzentrum gebucht. Die Führung dauert ca. 90 Minuten und umfasst eine kurze Filmeinführung sowie die Besichtigung der Satellitenkontrollräume\, z.B. des Hauptkontrollraums. Weitere Stationen sind unter anderem das Zwillingsmodell der Raumsonde Rosetta sowie weitere missionsspezifische Kontrollräume. \n\n\n\n\n\nTeilnahmebedingungen:Für die Teilnahme an den Führungen beträgt das Mindestalter 10 Jahre. Kinder/Jugendliche ohne erwachsene Begleitperson können nicht teilnehmen. Eine Teilnahme ist nur mit Voranmeldung bei der ESA möglich (eine Liste mit Vornamen\, Nachnamen und Nationalität aller Teilnehmenden ist eine Woche vor der Führung von uns einzureichen).Am Tag der Führung ist zum Einlass von allen Personen ab 16 Jahren ein gültiges Ausweisdokument (Personalausweis oder Reisepass) vorzulegen. \n\n\n\nWeitere Informationen zum Treffpunkt und Ablauf erhalten die Teilnehmenden rechtzeitig vor der Veranstaltung. \n\n\n\nDie Ticketbuchung stellt eine verbindliche Buchung dar. Vorangemeldete Mitglieder haben ein Vorkaufsrecht. Für sie sind die Tickets kostenfrei. Vorangemeldete Nicht-Mitglieder können\, sofern vorhanden\, verbleibende Tickets für 6 Euro pro Person kaufen. \n\n\n\nDa die Plätze streng begrenzt sind und wir möglichst vielen Kindern und Jugendlichen eine Teilnahme ermöglichen wollen\, ist pro Kind nur eine Begleitperson zulässig. Eine Begleitperson kann mehrere (Geschwister-) Kinder anmelden. Die Aufsichtspflicht liegt während der gesamten Veranstaltung bei den Eltern/der erwachsenen Begleitperson. \n\n\n\nVerkaufsschluss ist Mittwoch\, der 30. April 2025. \n\n\n\n\n\n\n\n\n\n\n\n\n\n\n\n\n\n\n\n\n\n\n\n\n\n\n\n\n\n\n\nDie Teilnahme ist nur mit Ticket möglich. Bitte haltet am Tag der Führung zum Check-in Eure Tickets (elektronisch ist ausreichend) bereit. \n\n\n\nWer nach der Anmeldung unerwartet verhindert ist\, sagt bitte per E-Mail an Frankfurt@dghk-hessen.de ab. So können wir die begrenzten Plätze weitergeben. \n\n\n\nWir freuen uns auf einen interessanten und spannenden Nachmittag!  \n\n\n\nSimone Schlosske
URL:https://sandbox.dghk-hessen.de/event/fuehrung-durch-das-esa-satellitenkontrollzentrum-darmstadt-2/
LOCATION:ESA Darmstadt\, Robert-Bosch-Straße 5\, Darmstadt\, 64293\, Germany
CATEGORIES:Ausflug
ATTACH;FMTTYPE=image/jpeg:https://sandbox.dghk-hessen.de/wp-content/uploads/2025/02/ESA_Main_Control_Room_pano-scaled-e1739381636742.jpg
ORGANIZER;CN="Lokalgruppe Frankfurt und Umland":MAILTO:frankfurt@dghk-hessen.de
END:VEVENT
BEGIN:VEVENT
DTSTART;TZID=Europe/Berlin:20250521T193000
DTEND;TZID=Europe/Berlin:20250521T210000
DTSTAMP:20260421T185758
CREATED:20250509T110830Z
LAST-MODIFIED:20250509T110832Z
UID:10000419-1747855800-1747861200@sandbox.dghk-hessen.de
SUMMARY:Teenager-Gesprächskreis
DESCRIPTION:Adobe Stock | #237746377\n\n\n\nTeenies unter sich \n\n\n\nNur für Vereinsmitglieder. \n\n\n\nTeenies zwischen 11 und 15 Jahren können sich hier miteinander vernetzen\, Erfahrungen austauschen und neue Freundschaften knüpfen. Wie in allen Gesprächskreisen entscheiden die Teilnehmerinnen und Teilnehmer über die Themen. Auch der Austausch über manch schwierige Situation in der Schule ist hier explizit erlaubt und erwünscht. \n\n\n\nDer Gesprächskreis findet online über Zoom statt und wird moderiert von Saskia Baisch-Zimmer\, Berufsschullehrerin und Fachbuchautorin. \n\n\n\nDamit wir alle in einer vertrauensvollen und respektvollen Atmosphäre miteinander sprechen können\, beachtet bitte folgende Regeln: \n\n\n\n\nKamera einschalten: Die Teilnahme erfolgt mit eingeschalteter Kamera und gut sichtbarer teilnehmenden Person\, damit wir ein persönliches Gesprächsgefühl schaffen können.\n\n\n\nVorname als Nutzername: Bitte verwendet mindestens Euren Vornamen als Anzeige-Namen\, damit wir uns gegenseitig ansprechen können.\n\n\n\nKeine Aufzeichnungen: Bild- oder Tonaufnahmen während des Gesprächs sind nicht gestattet\, um die Vertraulichkeit zu gewährleisten.\n\n\n\n\nVertraulichkeit und Verschwiegenheit: Wir legen großen Wert auf gegenseitiges Vertrauen. Daher sichern wir uns zu\, dass sensible Inhalte\, insbesondere gesundheitliche und persönliche Daten\, nicht außerhalb der Gruppe geteilt werden. Ebenso werden keine Informationen in Verbindung mit bestimmten Personen weitergegeben. \n\n\n\nWir danken Euch für Euer Verständnis und Eure Unterstützung\, um einen sicheren Raum für alle zu schaffen! \n\n\n\nZur besseren Vernetzung dürfen die Teilnehmenden ihre Kontaktdaten (Handynummer) austauschen.  \n\n\n\nWer teilnehmen möchte\, kann sich über das Online-Anmeldeformular anmelden. Anmeldeschluss ist 16 Uhr am Tag des Gesprächskreises. Bitte zum Nachweis der Mitgliedschaft die Mitgliedsnummer angeben! Ohne korrekte Mitgliedsnummer ist eine Teilnahme leider nicht möglich. Den Zoom-Link versenden wir am Nachmittag vor dem Gesprächskreis. \n\n\n\n\n\n\n\nSolltet Ihr nach der Anmeldung unerwartet verhindert sein\, sagt Eure Teilnahme bitte ab! \n\n\n\nIch freue mich auf Euch! \n\n\n\nSaskia Baisch-Zimmer
URL:https://sandbox.dghk-hessen.de/event/teenager-gespraechskreis-8/
LOCATION:Online
CATEGORIES:Gesprächskreis
ATTACH;FMTTYPE=image/jpeg:https://sandbox.dghk-hessen.de/wp-content/uploads/2025/02/AdobeStock_237746377-scaled.jpeg
ORGANIZER;CN="Saskia Baisch-Zimmer":MAILTO:Baisch-Zimmer@dghk-hessen.de
END:VEVENT
END:VCALENDAR