BEGIN:VCALENDAR
VERSION:2.0
PRODID:-//DGhK RV Hessen e.V. - ECPv6.15.17.1//NONSGML v1.0//EN
CALSCALE:GREGORIAN
METHOD:PUBLISH
X-WR-CALNAME:DGhK RV Hessen e.V.
X-ORIGINAL-URL:https://sandbox.dghk-hessen.de
X-WR-CALDESC:Veranstaltungen für DGhK RV Hessen e.V.
REFRESH-INTERVAL;VALUE=DURATION:PT1H
X-Robots-Tag:noindex
X-PUBLISHED-TTL:PT1H
BEGIN:VTIMEZONE
TZID:Europe/Berlin
BEGIN:DAYLIGHT
TZOFFSETFROM:+0100
TZOFFSETTO:+0200
TZNAME:CEST
DTSTART:20240331T010000
END:DAYLIGHT
BEGIN:STANDARD
TZOFFSETFROM:+0200
TZOFFSETTO:+0100
TZNAME:CET
DTSTART:20241027T010000
END:STANDARD
BEGIN:DAYLIGHT
TZOFFSETFROM:+0100
TZOFFSETTO:+0200
TZNAME:CEST
DTSTART:20250330T010000
END:DAYLIGHT
BEGIN:STANDARD
TZOFFSETFROM:+0200
TZOFFSETTO:+0100
TZNAME:CET
DTSTART:20251026T010000
END:STANDARD
BEGIN:DAYLIGHT
TZOFFSETFROM:+0100
TZOFFSETTO:+0200
TZNAME:CEST
DTSTART:20260329T010000
END:DAYLIGHT
BEGIN:STANDARD
TZOFFSETFROM:+0200
TZOFFSETTO:+0100
TZNAME:CET
DTSTART:20261025T010000
END:STANDARD
END:VTIMEZONE
BEGIN:VEVENT
DTSTART;TZID=Europe/Berlin:20251116T143000
DTEND;TZID=Europe/Berlin:20251116T160000
DTSTAMP:20260421T102950
CREATED:20251008T123125Z
LAST-MODIFIED:20251115T180337Z
UID:10000470-1763303400-1763308800@sandbox.dghk-hessen.de
SUMMARY:Spieltreff Smarties: 6-7 Jahre
DESCRIPTION:Spiel- und Vernetzungsnachmittag in Oberursel \n\n\n\nGerne bieten wir einen Spielnachmittag für Kinder an. Gleichzeitig sollen sich die Eltern vernetzen und austauschen können. Zum Spieltreff für die älteren Kinder geht es hier: Spieltreff Smarties 8-10 Jahre \n\n\n\nDie Treffen finden in der Regel jeden 3. Sonntag im Monat zur gleichen Zeit im Kinderhaus Oberursel statt. Zukünftige Termine sind auch auf der Seite der Lokalgruppe Frankfurt und Umland zu finden. \n\n\n\n\n\nJedes Kind bringt bitte 1-2 Spiele mit. Unser Fokus liegt auf kooperativen Spielen\, in denen wir als Team gewinnen. Wir entscheiden dann gemeinsam\, welche Spiele wir spielen.Über zuckerfreie Kleinigkeiten an Snacks freuen wir uns. Getränke und Kaffee werden von uns bereitgestellt.Hinweis: Die Aufsichtspflicht liegt während der gesamten Veranstaltung bei den Eltern. \n\n\n\nWer teilnehmen möchte\, erwirbt bitte pro Kind ein Ticket. Der Verkauf von kostenfreien Mitglied-Tickets erfolgt vorbehaltlich einer Prüfung der Mitgliedschaft. Es stehen Plätze (Tickets) für 5 Kinder zur Verfügung. Verkaufsschluss ist der 13.11.2025. \n\n\n\n\n\n\n\n\n\n\n\n\n\n\n\nSolltet Ihr nach der Anmeldung unerwartet verhindert sein\, sagt Eure Teilnahme bitte per Mail an Spieltreff-Smarties@dghk-hessen.de ab. So können wir die begrenzten Plätze weitergeben. \n\n\n\nWir freuen uns auf einen tollen Nachmittag mit viel Zeit zum Spielen\, Austauschen und Kennenlernen! \n\n\n\nJelena Simon und Christin Streller
URL:https://sandbox.dghk-hessen.de/event/spieltreff-smarties-6-7-jahre-12/
LOCATION:Kinderhaus Oberursel\, Jean-Sauer-Weg 2\, Oberursel (Taunus)\, Hessen\, 61440\, Deutschland
CATEGORIES:Spieltreff
ATTACH;FMTTYPE=image/jpeg:https://sandbox.dghk-hessen.de/wp-content/uploads/2025/02/Smarties-Beitragsbild-e1739888958647.jpg
END:VEVENT
BEGIN:VEVENT
DTSTART;TZID=Europe/Berlin:20251116T143000
DTEND;TZID=Europe/Berlin:20251116T173000
DTSTAMP:20260421T102950
CREATED:20251008T130704Z
LAST-MODIFIED:20251008T130706Z
UID:10000472-1763303400-1763314200@sandbox.dghk-hessen.de
SUMMARY:Einstieg in die Rollenspiele: Maus & Mystik
DESCRIPTION:Adobe Stock | #550645629\n\n\n\nIn einer festen Gruppe tauchen unsere 8-10 Jahre alte Kinder in die Welt der Rollenspiele ein! \n\n\n\nIm Spiel „Maus und Mystik“ schlüpfen sie in die Rolle von Helden\, die dem König treu sind. Um aus den Fängen der bösen Zauberin zu entkommen\, haben sie sich in Mäuse verwandelt. Mit Mut und Geschick müssen sie sich durch die Burg kämpfen\, die durch die vielen Schergen der Zauberin schon gefährlich genug wäre… \n\n\n\nMit diesem kooperativen Abenteuerspiel möchten wir unseren Kindern den Geschmack von Dungeons & Dragons-Welt vermitteln. Die Kinder spielen an diesem Nachmittag in Eigenregie in einer festen Gruppe. Veranstaltungsort ist wie beim Spieltreff Smarties das Kinderhaus Oberursel. \n\n\n\n\n\nFür die bestehende feste Gruppe geht es hier zur Anmeldung. \n\n\n\nNeue Interessenten bitten wir um eine vorherige Kontaktaufnahme per E-Mail an Spieltreff-Smarties@dghk-hessen.de.
URL:https://sandbox.dghk-hessen.de/event/einstieg-in-die-rollenspiele-maus-mystik-5/
LOCATION:Kinderhaus Oberursel\, Jean-Sauer-Weg 2\, Oberursel (Taunus)\, Hessen\, 61440\, Deutschland
CATEGORIES:Spieltreff
ATTACH;FMTTYPE=image/jpeg:https://sandbox.dghk-hessen.de/wp-content/uploads/2025/06/AdobeStock_550645629-scaled.jpeg
END:VEVENT
BEGIN:VEVENT
DTSTART;TZID=Europe/Berlin:20251116T160000
DTEND;TZID=Europe/Berlin:20251116T173000
DTSTAMP:20260421T102950
CREATED:20251008T122954Z
LAST-MODIFIED:20251115T180634Z
UID:10000471-1763308800-1763314200@sandbox.dghk-hessen.de
SUMMARY:Spieltreff Smarties: 8-10 Jahre
DESCRIPTION:Spiel- und Vernetzungsnachmittag in Oberursel \n\n\n\nGerne bieten wir einen Spielnachmittag für Kinder an. Gleichzeitig sollen sich die Eltern vernetzen und austauschen können. Zum Spieltreff für die jüngeren Kinder geht es hier: Spieltreff Smarties 6-7 Jahre \n\n\n\nDie Treffen finden in der Regel jeden 3. Sonntag im Monat zur gleichen Zeit im Kinderhaus Oberursel statt. Zukünftige Termine sind auch auf der Seite der Lokalgruppe Frankfurt und Umland zu finden. \n\n\n\n\n\nJedes Kind bringt bitte 1-2 Spiele mit. Unser Fokus liegt auf kooperativen Spielen\, in denen wir als Team gewinnen. Wir entscheiden dann gemeinsam\, welche Spiele wir spielen.Über zuckerfreie Kleinigkeiten an Snacks freuen wir uns. Getränke und Kaffee werden von uns bereitgestellt.Hinweis: Die Aufsichtspflicht liegt während der gesamten Veranstaltung bei den Eltern. \n\n\n\nWer teilnehmen möchte\, erwirbt bitte pro Kind ein Ticket. Der Verkauf von kostenfreien Mitglied-Tickets erfolgt vorbehaltlich einer Prüfung der Mitgliedschaft. Es stehen Plätze (Tickets) für 5 Kinder zur Verfügung. Verkaufsschluss ist der 13.11.2025. \n\n\n\n\n\n\n\n\n\n\n\n\n\n\n\nSolltet Ihr nach der Anmeldung unerwartet verhindert sein\, sagt Eure Teilnahme bitte per Mail an Spieltreff-Smarties@dghk-hessen.de ab. So können wir die begrenzten Plätze weitergeben. \n\n\n\nWir freuen uns auf einen tollen Nachmittag mit viel Zeit zum Spielen\, Austauschen und Kennenlernen! \n\n\n\nJelena Simon und Christin Streller
URL:https://sandbox.dghk-hessen.de/event/spieltreff-smarties-8-10-jahre-12/
LOCATION:Kinderhaus Oberursel\, Jean-Sauer-Weg 2\, Oberursel (Taunus)\, Hessen\, 61440\, Deutschland
CATEGORIES:Spieltreff
ATTACH;FMTTYPE=image/jpeg:https://sandbox.dghk-hessen.de/wp-content/uploads/2025/02/Smarties-Beitragsbild-e1739888958647.jpg
END:VEVENT
BEGIN:VEVENT
DTSTART;TZID=Europe/Berlin:20251122T140000
DTEND;TZID=Europe/Berlin:20251122T170000
DTSTAMP:20260421T102950
CREATED:20251015T230358Z
LAST-MODIFIED:20251121T073747Z
UID:10000479-1763820000-1763830800@sandbox.dghk-hessen.de
SUMMARY:Spielenachmittag Main-Kinzig
DESCRIPTION:Board games. Home hobby leisure with children. Family fun\, digital detox\, mental health Quarantine games\, gifts for family\, play background\n\n\n\nWir freuen uns\, einen Spielenachmittag für Familien in der Region Main-Kinzig anbieten zu können! Von 0 bis 99 Jahren sind alle willkommen! \n\n\n\nUnser Spielenachmittag findet im Gemeindehaus der Evangelischen Kirche\, Paul-Gerhardt-Str. 2 in Gründau-Lieblos statt. \n\n\n\nNeben guter Laune freuen wir uns\, wenn jede Familie 1-2 Spiele ( indoor/outdoor) und eine Kleinigkeit fürs Fingerfood-Büfett beisteuert. \n\n\n\nHinweis: Die Aufsichtspflicht liegt während der gesamten Veranstaltung bei den Eltern! \n\n\n\nTickets können bis zum 13.11.2025 (21:00 Uhr) nach Verfügbarkeit erworben werden. Zum Nachweis der Mitgliedschaft ist die Mitgliedsnummer anzugeben. Der Verkauf der kostenfreien Mitglied-Tickets erfolgt vorbehaltlich einer Prüfung der Mitgliedschaft. \n\n\n\nWenn Sie als Familie teilnehmen möchten\, erwerben Sie bitte ein Ticket pro Familie und geben im Bestellverlauf alle Personen an\, die kommen! \n\n\n\n\n\n\n\n\n\n\n\n\n\n\n\n\n\nWir freuen uns auf einen abwechslungsreichen und fröhlichen Nachmittag! \n\n\n\nDesiree Koslowski und Tamara Walter
URL:https://sandbox.dghk-hessen.de/event/spielenachmittag-main-kinzig-7/
LOCATION:Evangelische Kirchengemeinde Auf dem Berg\, Paul-Gerhardt-Str. 2\, 63584 Gründau
CATEGORIES:Spieltreff
ATTACH;FMTTYPE=image/jpeg:https://sandbox.dghk-hessen.de/wp-content/uploads/2025/02/AdobeStock_462648606-scaled.jpeg
ORGANIZER;CN="Lokalgruppe Main-Kinzig":MAILTO:main-kinzig@dghk-hessen.de
END:VEVENT
BEGIN:VEVENT
DTSTART;TZID=Europe/Berlin:20251122T143000
DTEND;TZID=Europe/Berlin:20251122T180000
DTSTAMP:20260421T102950
CREATED:20251101T095300Z
LAST-MODIFIED:20251101T105159Z
UID:10000481-1763821800-1763834400@sandbox.dghk-hessen.de
SUMMARY:Spieletreff für Kids
DESCRIPTION:Bürgerhaus Rudolphshan\, Sebastianstr. 16\, 36088 Hünfeld \n\n\n\nEin Nachmittag zum Kennenlernen\, spielen\, quatschen\, tüfteln oder einfach mal vorbeischauen. Gemeinsam gegen Einsam. \n\n\n\n \n\n\n\nBringt gerne eure Lieblingsspiele mit (Gesellschaftsspiele\, Spielsachen oder Spiele zum gemeinsamen Bauen\, Tüfteln\, Spiele für Drinnen oder Draußen)\, Lieblingsbuch\, Lieblingsthema\, … Auch ein Spielplatz grenzt direkt an das Gebäude an. Denkt an passende Kleidung. \n\n\n\nWir freuen uns über einen kleinen Beitrag für uns Fingerfood Buffet. Getränke werden gestellt. \n\n\n\nBitte meldet Euch als Familie an. Tickets sind bis zum 21. November 17:00 Uhr erhältlich. \n\n\n\n\n\n\n\n \n\n\n\nAb hier startet die Vorfreude auf einen bunten und fröhlichen Nachmittag. \n\n\n\nHerzliche Grüße Michaela Uffelmann
URL:https://sandbox.dghk-hessen.de/event/spieletreff-fuer-kids-2/
LOCATION:Bürgerhaus Rudolphshan\, Sebastianstr. 16\, Hünfeld\, 36088\, Germany
CATEGORIES:Spieltreff
ORGANIZER;CN="Lokalgruppe Osthessen":MAILTO:osthessen@dghk-hessen.de
END:VEVENT
BEGIN:VEVENT
DTSTART;TZID=Europe/Berlin:20251130T150000
DTEND;TZID=Europe/Berlin:20251130T180000
DTSTAMP:20260421T102950
CREATED:20251123T123825Z
LAST-MODIFIED:20251123T180515Z
UID:10000485-1764514800-1764525600@sandbox.dghk-hessen.de
SUMMARY:Schnuppertermin - Einstieg in die Rollenspiele: Maus & Mystik
DESCRIPTION:Adobe Stock | #550645629\n\n\n\nIn einer festen Gruppe tauchen unsere 8-10 Jahre alte Kinder in die Welt der Rollenspiele ein! \n\n\n\nIm Spiel „Maus und Mystik“ schlüpfen sie in die Rolle von Helden\, die dem König treu sind. Um aus den Fängen der bösen Zauberin zu entkommen\, haben sie sich in Mäuse verwandelt. Mit Mut und Geschick müssen sie sich durch die Burg kämpfen\, die durch die vielen Schergen der Zauberin schon gefährlich genug wäre… \n\n\n\nMit diesem kooperativen Abenteuerspiel möchten wir unseren Kindern den Geschmack von Dungeons & Dragons-Welt vermitteln. Die Kinder spielen an diesem Nachmittag in Eigenregie in einer festen Gruppe. Veranstaltungsort ist wie beim Spieltreff Smarties das Kinderhaus Oberursel. \n\n\n\n\n\nZum Schnuppertermin für die neue Gruppe geht es hier zur Anmeldung. \n\n\n\nNeue Interessenten bitten wir um eine vorherige Kontaktaufnahme per E-Mail an Spieltreff-Smarties@dghk-hessen.de.
URL:https://sandbox.dghk-hessen.de/event/schnuppertermin-einstieg-in-die-rollenspiele-maus-mystik/
LOCATION:Kinderhaus Oberursel\, Jean-Sauer-Weg 2\, Oberursel (Taunus)\, Hessen\, 61440\, Deutschland
CATEGORIES:Spieltreff
ATTACH;FMTTYPE=image/jpeg:https://sandbox.dghk-hessen.de/wp-content/uploads/2025/06/AdobeStock_550645629-scaled.jpeg
END:VEVENT
END:VCALENDAR