BEGIN:VCALENDAR
VERSION:2.0
PRODID:-//DGhK RV Hessen e.V. - ECPv6.15.17.1//NONSGML v1.0//EN
CALSCALE:GREGORIAN
METHOD:PUBLISH
X-ORIGINAL-URL:https://sandbox.dghk-hessen.de
X-WR-CALDESC:Veranstaltungen für DGhK RV Hessen e.V.
REFRESH-INTERVAL;VALUE=DURATION:PT1H
X-Robots-Tag:noindex
X-PUBLISHED-TTL:PT1H
BEGIN:VTIMEZONE
TZID:Europe/Berlin
BEGIN:DAYLIGHT
TZOFFSETFROM:+0100
TZOFFSETTO:+0200
TZNAME:CEST
DTSTART:20240331T010000
END:DAYLIGHT
BEGIN:STANDARD
TZOFFSETFROM:+0200
TZOFFSETTO:+0100
TZNAME:CET
DTSTART:20241027T010000
END:STANDARD
BEGIN:DAYLIGHT
TZOFFSETFROM:+0100
TZOFFSETTO:+0200
TZNAME:CEST
DTSTART:20250330T010000
END:DAYLIGHT
BEGIN:STANDARD
TZOFFSETFROM:+0200
TZOFFSETTO:+0100
TZNAME:CET
DTSTART:20251026T010000
END:STANDARD
BEGIN:DAYLIGHT
TZOFFSETFROM:+0100
TZOFFSETTO:+0200
TZNAME:CEST
DTSTART:20260329T010000
END:DAYLIGHT
BEGIN:STANDARD
TZOFFSETFROM:+0200
TZOFFSETTO:+0100
TZNAME:CET
DTSTART:20261025T010000
END:STANDARD
END:VTIMEZONE
BEGIN:VEVENT
DTSTART;TZID=Europe/Berlin:20251025T130000
DTEND;TZID=Europe/Berlin:20251025T200000
DTSTAMP:20260421T150833
CREATED:20250914T081900Z
LAST-MODIFIED:20250927T061445Z
UID:10000463-1761397200-1761422400@sandbox.dghk-hessen.de
SUMMARY:Spielenachmittag Frickhofen
DESCRIPTION:Spiele- und Vernetzungsnachmittag Frickhofen \n\n\n\nWir bieten einen tollen Nachmittag für Spiele und Gespräche an. Die Kinder spielen und die Eltern haben Zeit für „Austausch“. Zum Spielenachmittag sind Familien mit Kindern aller Altersklassen eingeladen. \n\n\n\nWir treffen uns dazu im Pfarrheim Frickhofen: \n\n\n\n\n\nDie Veranstaltung ist als Potluck-Party ausgelegt. Jede Familie bringt bitte einen Snack für das Büfett mit. Getränke wie Kaffee\, Wasser oder Säfte werden gestellt. \n\n\n\nFür die Spieltische steuert bitte jede Familie Spiele bei. Ihr könnt gerne 2 – 3 Spiele mitbringen. Dadurch besteht die Möglichkeit neues zu entdecken oder tolle Spiele vorzustellen. Bücher werden gerne gesehen und können untereinander empfohlen werden. \n\n\n\nHinweis: Die Aufsichtspflicht liegt während der gesamten Veranstaltung bei den Eltern.  \n\n\n\nWer teilnehmen möchte\, erwirbt bitte pro Familie ein Ticket. Der Verkauf von Mitglied-Tickets erfolgt vorbehaltlich einer Prüfung der Mitgliedschaft. Verkaufsschluss ist der 23.10.2025. \n\n\n\n\n\n\n\n\n\n\n\n\n\n\n\nSolltet Ihr nach der Anmeldung unerwartet verhindert sein\, sagt Eure Teilnahme bitte unter Brandes@dghk-hessen.de ab. \n\n\n\nWir freuen uns auf einen tollen Nachmittag mit viel Zeit zum Spielen\, Austauschen und Kennenlernen!
URL:https://sandbox.dghk-hessen.de/event/spielenachmittag-frickhofen-4/
LOCATION:Pfarrheim Frickhofen\, Egenolfstraße 24\, Dornburg\, 65599\, Deutschland
CATEGORIES:Spieltreff
ATTACH;FMTTYPE=image/jpeg:https://sandbox.dghk-hessen.de/wp-content/uploads/2024/10/AdobeStock_115717709-scaled.jpeg
ORGANIZER;CN="Katja Brandes":MAILTO:Brandes@dghk-hessen.de
END:VEVENT
BEGIN:VEVENT
DTSTART;TZID=Europe/Berlin:20251025T140000
DTEND;TZID=Europe/Berlin:20251025T170000
DTSTAMP:20260421T150833
CREATED:20250922T060414Z
LAST-MODIFIED:20250922T063356Z
UID:10000464-1761400800-1761411600@sandbox.dghk-hessen.de
SUMMARY:Spielenachmittag Main-Kinzig
DESCRIPTION:Board games. Home hobby leisure with children. Family fun\, digital detox\, mental health Quarantine games\, gifts for family\, play background\n\n\n\nWir freuen uns\, einen Spielenachmittag für Familien in der Region Main-Kinzig anbieten zu können! Von 0 bis 99 Jahren sind alle willkommen! \n\n\n\nUnser Spielenachmittag findet im Gemeindehaus der Evangelischen Kirche\, Paul-Gerhardt-Str. 2 in Gründau-Lieblos statt. \n\n\n\nNeben guter Laune freuen wir uns\, wenn jede Familie 1-2 Spiele ( indoor/outdoor) und eine Kleinigkeit fürs Fingerfood-Büfett beisteuert. \n\n\n\nHinweis: Die Aufsichtspflicht liegt während der gesamten Veranstaltung bei den Eltern! \n\n\n\nTickets können bis zum 17.10.2025 (21:00 Uhr) nach Verfügbarkeit erworben werden. Zum Nachweis der Mitgliedschaft ist die Mitgliedsnummer anzugeben. Der Verkauf der kostenfreien Mitglied-Tickets erfolgt vorbehaltlich einer Prüfung der Mitgliedschaft. \n\n\n\nWenn Sie als Familie teilnehmen möchten\, erwerben Sie bitte ein Ticket pro Familie und geben Sie im Bestellverlauf alle Personen an\, die kommen! \n\n\n\n\n\n\n\n\n\n\n\n\n\n\n\n\n\nWir freuen uns auf einen abwechslungsreichen und fröhlichen Nachmittag! \n\n\n\nDesiree Koslowski und Tamara Walter
URL:https://sandbox.dghk-hessen.de/event/spielenachmittag-main-kinzig-6/
LOCATION:Evangelische Kirchengemeinde Auf dem Berg\, Paul-Gerhardt-Str. 2\, 63584 Gründau
CATEGORIES:Spieltreff
ATTACH;FMTTYPE=image/jpeg:https://sandbox.dghk-hessen.de/wp-content/uploads/2025/02/AdobeStock_462648606-scaled.jpeg
ORGANIZER;CN="Lokalgruppe Main-Kinzig":MAILTO:main-kinzig@dghk-hessen.de
END:VEVENT
END:VCALENDAR