BEGIN:VCALENDAR
VERSION:2.0
PRODID:-//DGhK RV Hessen e.V. - ECPv6.15.17.1//NONSGML v1.0//EN
CALSCALE:GREGORIAN
METHOD:PUBLISH
X-WR-CALNAME:DGhK RV Hessen e.V.
X-ORIGINAL-URL:https://sandbox.dghk-hessen.de
X-WR-CALDESC:Veranstaltungen für DGhK RV Hessen e.V.
REFRESH-INTERVAL;VALUE=DURATION:PT1H
X-Robots-Tag:noindex
X-PUBLISHED-TTL:PT1H
BEGIN:VTIMEZONE
TZID:Europe/Berlin
BEGIN:DAYLIGHT
TZOFFSETFROM:+0100
TZOFFSETTO:+0200
TZNAME:CEST
DTSTART:20240331T010000
END:DAYLIGHT
BEGIN:STANDARD
TZOFFSETFROM:+0200
TZOFFSETTO:+0100
TZNAME:CET
DTSTART:20241027T010000
END:STANDARD
BEGIN:DAYLIGHT
TZOFFSETFROM:+0100
TZOFFSETTO:+0200
TZNAME:CEST
DTSTART:20250330T010000
END:DAYLIGHT
BEGIN:STANDARD
TZOFFSETFROM:+0200
TZOFFSETTO:+0100
TZNAME:CET
DTSTART:20251026T010000
END:STANDARD
BEGIN:DAYLIGHT
TZOFFSETFROM:+0100
TZOFFSETTO:+0200
TZNAME:CEST
DTSTART:20260329T010000
END:DAYLIGHT
BEGIN:STANDARD
TZOFFSETFROM:+0200
TZOFFSETTO:+0100
TZNAME:CET
DTSTART:20261025T010000
END:STANDARD
END:VTIMEZONE
BEGIN:VEVENT
DTSTART;TZID=Europe/Berlin:20250426T180000
DTEND;TZID=Europe/Berlin:20250426T190000
DTSTAMP:20260421T215008
CREATED:20250409T192055Z
LAST-MODIFIED:20250423T100300Z
UID:10000409-1745690400-1745694000@sandbox.dghk-hessen.de
SUMMARY:Schnupperstunde: Stronger Me
DESCRIPTION:Resilienz- und Selbstbehauptungskurs für hochbegabte Mädchen im Alter von 11 bis 14 Jahren \n\n\n\n\n\nAdobe Stock | #413915576\n\n\n\nDies ist die kostenlose Schnupperstunde zum Onlinekurs „Stronger Me“. Die Kursbeschreibung finden Sie hier. \n\n\n\nFür die Teilnahme an der Schnupperstunde buchen sie bitte hier pro Familie ein separates Ticket. Anmeldeschluss ist Freitag\, der 25. April 2025. \n\n\n\n\n\n\n\n\n\n\n\nBei Fragen zur Veranstaltung wenden Sie sich bitte per E-Mail an Simone Schlosske unterVeranstaltung@dghk-hessen.de.
URL:https://sandbox.dghk-hessen.de/event/schnupperstunde-stronger-me/
LOCATION:Online
CATEGORIES:Kurs
ATTACH;FMTTYPE=image/jpeg:https://sandbox.dghk-hessen.de/wp-content/uploads/2025/04/AdobeStock_413915576-scaled.jpeg
ORGANIZER;CN="Veranstaltungsteam DGhK Hessen":MAILTO:Veranstaltung@dghk-hessen.de
END:VEVENT
END:VCALENDAR