BEGIN:VCALENDAR
VERSION:2.0
PRODID:-//DGhK RV Hessen e.V. - ECPv6.15.17.1//NONSGML v1.0//EN
CALSCALE:GREGORIAN
METHOD:PUBLISH
X-WR-CALNAME:DGhK RV Hessen e.V.
X-ORIGINAL-URL:https://sandbox.dghk-hessen.de
X-WR-CALDESC:Veranstaltungen für DGhK RV Hessen e.V.
REFRESH-INTERVAL;VALUE=DURATION:PT1H
X-Robots-Tag:noindex
X-PUBLISHED-TTL:PT1H
BEGIN:VTIMEZONE
TZID:Europe/Berlin
BEGIN:DAYLIGHT
TZOFFSETFROM:+0100
TZOFFSETTO:+0200
TZNAME:CEST
DTSTART:20240331T010000
END:DAYLIGHT
BEGIN:STANDARD
TZOFFSETFROM:+0200
TZOFFSETTO:+0100
TZNAME:CET
DTSTART:20241027T010000
END:STANDARD
BEGIN:DAYLIGHT
TZOFFSETFROM:+0100
TZOFFSETTO:+0200
TZNAME:CEST
DTSTART:20250330T010000
END:DAYLIGHT
BEGIN:STANDARD
TZOFFSETFROM:+0200
TZOFFSETTO:+0100
TZNAME:CET
DTSTART:20251026T010000
END:STANDARD
BEGIN:DAYLIGHT
TZOFFSETFROM:+0100
TZOFFSETTO:+0200
TZNAME:CEST
DTSTART:20260329T010000
END:DAYLIGHT
BEGIN:STANDARD
TZOFFSETFROM:+0200
TZOFFSETTO:+0100
TZNAME:CET
DTSTART:20261025T010000
END:STANDARD
END:VTIMEZONE
BEGIN:VEVENT
DTSTART;TZID=Europe/Berlin:20250802T140000
DTEND;TZID=Europe/Berlin:20250809T120000
DTSTAMP:20260422T161356
CREATED:20250307T220228Z
LAST-MODIFIED:20250402T080844Z
UID:10000391-1754143200-1754740800@sandbox.dghk-hessen.de
SUMMARY:MINT-Camp 2025
DESCRIPTION:Adobe Stock | #532501980\n\n\n\nSei dabei beim ersten MINT-Camp der DGhK Hessen! \n\n\n\nDie Steinmühle in Marburg öffnet ihre Türen und in Kooperation mit dem LernTeam bekommt unser Verein seine eigene MINT-Woche vom 2. – 9. August 2025. \n\n\n\nTeilnehmen können Jugendliche im Alter von 13 bis 15 Jahren\, die Mitglied der DGhK Hessen sind. \n\n\n\nIm MINT-Camp können die Jugendlichen vormittags für eine Woche in die Rolle von echten Wissenschafterinnen und Wissenschaftlern schlüpfen! Dabei haben sie die Chance ein spannendes Naturphänomen zu entdecken\, es genau unter die Lupe zu nehmen\, wissenschaftlich zu erforschen und ihre Ergebnisse wie ein Profi als Vortrag oder Science Slam vorzustellen. \n\n\n\nNachmittags können die Jugendlichen Aktivitäten aus einem abwechslungsreichen Freizeitprogramm aus Sport\, Kreativität\, Action und Entspannung wählen. \n\n\n\nHandys werden zur Nacht eingesammelt und sollen während der AGs nur zu Forschungszwecken genutzt werden. \n\n\n\nFür Kinder von 9 bis 12 Jahren bieten wir wie gewohnt die Experimenta an. Nähere Informationen und die Anmeldung dazu findet Ihr hier. \n\n\n\nBitte beachtet die Teilnahmebedingungen: \n\n\n\n\nAnmelden können sich Jugendliche im Alter von 13-15 Jahren\, die Mitglied der DGhK Hessen sind\n\n\n\nEs handelt sich um eine Jugendfreizeit ohne Eltern mit eigener Anreise (14-16 Uhr) und Abreise (10-12 Uhr)\n\n\n\nDie Jugendlichen übernachten zusammen in 1- bis 2-Bettzimmern auf dem Campus Steinmühle\n\n\n\nDie Mindestteilnehmerzahl beträgt 10 Jugendliche. Sollte diese Teilnehmerzahl nicht erreicht werden\, kann das MINT-Camp leider nicht stattfinden\n\n\n\nDie Ticketbuchung ist ab 1. April 2025 möglich\, Anmeldeschluss ist der 15. Juni 2025\n\n\n\nDie Mitgliedschaft muss bereits vor April 2025 (Beitrittsdatum bis 1. März 2025) bestanden haben\n\n\n\nUnser Verein sammelt die Anmeldungen und prüft die Teilnahmevoraussetzungen. Anschließend übermitteln wir die Namen der Teilnehmenden an unseren Kooperationspartner. Zum Abschluss der Anmeldung müssen die Eltern die Jugendlichen auf einer speziellen Seite des LernTeams – voraussichtlich im Juni 2025  – anmelden und dort den Teilnahmebetrag zahlen\n\n\n\nIm Falle eines Rücktritts bei weniger als 15 Tagen vor Campbeginn oder Abreise während des Camps besteht kein Anspruch auf Erstattung. Ausfallgebühren entfallen\, wenn vor Beginn des Camps eine Ersatzteilnehmerin / ein Ersatzteilnehmer benannt werden kann.\n\n\n\nEine Teilnahme von Mitgliedern anderer Regionalvereine und Nicht-Mitgliedern ist nur auf Anfrage möglich\n\n\n\n\n\n\nMitglied DGhK Hessen1 Jugendliche/r 400 Euroab 2 Jugendliche (pro Person)300 Euro\n\n\n\nZur Anmeldung bitte pro Kind ein Ticket buchen. Familien\, die nur ein Kind anmelden möchten\, wählen ein Einzelticket aus. Familien\, die zwei oder mehr Kinder anmelden möchten\, wählen das Multiticket in entsprechender Anzahl aus. \n\n\n\nBitte beachtet\, dass die Anmeldung erst abgeschlossen ist\, wenn Ihr die Teilnahmebestätigung in einer separaten E-Mail vom Veranstaltungsteam erhalten und den Teilnahmebetrag auf der Seite des LernTeams gezahlt habt.  \n\n\n\n\n\n\n\n\n\n\n\n\n\nWir freuen uns darauf\, Eure Kinder im Rahmen des MINT-Camps begrüßen zu dürfen! \n\n\n\nEure DGhK Hessen
URL:https://sandbox.dghk-hessen.de/event/mint-camp-2025/
LOCATION:LernTeam – Steinmühle\, Steinmühlenweg 21\, Marburg\, Hessen\, 35043
CATEGORIES:Freizeit
ATTACH;FMTTYPE=image/jpeg:https://sandbox.dghk-hessen.de/wp-content/uploads/2025/03/AdobeStock_532501980-scaled.jpeg
ORGANIZER;CN="Experimenta Team":MAILTO:Experimenta@dghk-hessen.de
END:VEVENT
BEGIN:VEVENT
DTSTART;TZID=Europe/Berlin:20250803T110000
DTEND;TZID=Europe/Berlin:20250809T130000
DTSTAMP:20260422T161356
CREATED:20250307T220544Z
LAST-MODIFIED:20250623T140918Z
UID:10000390-1754218800-1754744400@sandbox.dghk-hessen.de
SUMMARY:Experimenta 2025
DESCRIPTION:Adobe Stock | #321976474\n\n\n\nDie Experimenta\, unsere beliebte Tüftel- und Experimentierwoche\, findet in diesem Jahr in der Jugendherberge Oberreifenberg in Schmitten statt! \n\n\n\nFür bis zu 15 Kinder zwischen 9 und 12 Jahren (mindestens 5. Klasse) werden wir ein abwechslungsreiches Programm zusammenstellen. \n\n\n\nFür unsere Jugendlichen von 13 bis 15 Jahren bieten wir in diesem Jahr das MINT-Camp an. Nähere Informationen dazu findet Ihr hier. \n\n\n\nUpdate: Da das MINT-Camp bereits ausgebucht ist\, können sich ab sofort auch Jugendliche bis 14 Jahre (auf Anfrage ggf. auch bis 15 Jahre) zur Experimenta anmelden. Wir erhöhen dazu die Plätze auf bis zu 18 Kinder und Jugendliche und verlängern den Anmeldeschluss bis zum 30. Juni 2025. \n\n\n\nStart der Experimenta ist am Sonntag\, dem 3. August 2025\, um ca. 11 Uhr\, und das Ende ist für Samstag\, den 9. August 2025\, gegen ca. 13 Uhr geplant. \n\n\n\nDie Kinder übernachten in der Jugendherberge ohne Eltern\, begleitet von unserem erfahrenen Betreuerteam. \n\n\n\nTeilnahmebedingungen: \n\n\n\n\nAnmelden können sich maximal 18 Kinder und Jugendliche im Alter von 9- 14 Jahren (mindestens 5. Klasse\, auf Anfrage ggf. auch bis 15 Jahren)\n\n\n\nEs handelt sich in eine Jugendfreizeit ohne Eltern mit eigener Anreise\n\n\n\nVoraussetzung für die Teilnahme ist\, dass die Kinder bereits Erfahrungen mit einer Ferienfreizeit oder einer mehrtägigen Klassenfahrt haben.\n\n\n\nMitglieder der DGhK Hessen können die Tickets ab dem 1. April 2025 erwerben. Anmeldeschluss ist der 30. Juni 2025\n\n\n\nSofern noch Ticktes verfügbar sind\, startet der freie Verkauf zu einem späteren Zeitpunkt\n\n\n\nFür Mitglieder anderer RV und Nicht-Mitglieder ist ein Anmeldegespräch vor der endgültigen Buchungsbestätigung obligatorisch \n\n\n\n\n\n\nMitglied DGhK HessenNicht-Mitglied1 Kind350 Euro500 Euroab 2 Kindern (pro Kind)250 Euro500 Euro\n\n\n\nZur Anmeldung bitte pro Kind ein Ticket buchen. Familien\, die nur ein Kind anmelden möchten\, wählen ein Einzelticket aus. Familien\, die zwei oder mehr Kinder anmelden möchten\, wählen das Multiticket in entsprechender Anzahl aus. \n\n\n\n\n\n\n\n\n\n\n\n\n\n\n\n\n\nWir freuen uns darauf\, Eure Kinder im Rahmen unserer Experimenta begrüßen zu dürfen! \n\n\n\nEure DGhK Hessen
URL:https://sandbox.dghk-hessen.de/event/experimenta-2025/
LOCATION:Jugendherberge Oberreifenberg\, Limesstraße 14\, Schmitten\, 61389
CATEGORIES:Freizeit
ATTACH;FMTTYPE=image/jpeg:https://sandbox.dghk-hessen.de/wp-content/uploads/2025/03/AdobeStock_321976474-scaled.jpeg
ORGANIZER;CN="Experimenta Team":MAILTO:Experimenta@dghk-hessen.de
END:VEVENT
END:VCALENDAR