BEGIN:VCALENDAR
VERSION:2.0
PRODID:-//DGhK RV Hessen e.V. - ECPv6.15.17.1//NONSGML v1.0//EN
CALSCALE:GREGORIAN
METHOD:PUBLISH
X-WR-CALNAME:DGhK RV Hessen e.V.
X-ORIGINAL-URL:https://sandbox.dghk-hessen.de
X-WR-CALDESC:Veranstaltungen für DGhK RV Hessen e.V.
REFRESH-INTERVAL;VALUE=DURATION:PT1H
X-Robots-Tag:noindex
X-PUBLISHED-TTL:PT1H
BEGIN:VTIMEZONE
TZID:Europe/Berlin
BEGIN:DAYLIGHT
TZOFFSETFROM:+0100
TZOFFSETTO:+0200
TZNAME:CEST
DTSTART:20240331T010000
END:DAYLIGHT
BEGIN:STANDARD
TZOFFSETFROM:+0200
TZOFFSETTO:+0100
TZNAME:CET
DTSTART:20241027T010000
END:STANDARD
BEGIN:DAYLIGHT
TZOFFSETFROM:+0100
TZOFFSETTO:+0200
TZNAME:CEST
DTSTART:20250330T010000
END:DAYLIGHT
BEGIN:STANDARD
TZOFFSETFROM:+0200
TZOFFSETTO:+0100
TZNAME:CET
DTSTART:20251026T010000
END:STANDARD
BEGIN:DAYLIGHT
TZOFFSETFROM:+0100
TZOFFSETTO:+0200
TZNAME:CEST
DTSTART:20260329T010000
END:DAYLIGHT
BEGIN:STANDARD
TZOFFSETFROM:+0200
TZOFFSETTO:+0100
TZNAME:CET
DTSTART:20261025T010000
END:STANDARD
END:VTIMEZONE
BEGIN:VEVENT
DTSTART;TZID=Europe/Berlin:20250906T100000
DTEND;TZID=Europe/Berlin:20250906T120000
DTSTAMP:20260421T040739
CREATED:20250712T085339Z
LAST-MODIFIED:20250712T105111Z
UID:10000426-1757152800-1757160000@sandbox.dghk-hessen.de
SUMMARY:Workshop "Steineforscher"
DESCRIPTION:Was uns die Steine erzählen \n\n\n\n\n\nFoto: Sandy Jaschik\n\n\n\nFür Kinder von 6-10 Jahren / 1. – 4. Klasse \n\n\n\nIm Forschergarten können die Kinder NATUR ERLEBEN und bekommen Geologie zum Anfassen\, Erforschen und Begreifen! \n\n\n\nMit Lupe\, Hammer und Meißel untersuchen wir verschiedenste Steine und erforschen dabei\, wie und wo sie entstanden sind. Die Steine erzählen uns von längst vergangenen Zeiten\, Vulkanausbrüchen\, ausgestorbenen Lebewesen\, wie Gebirge entstanden sind und noch vieles mehr. Am Ende kannst du deinen eigens geklopften Stein mit nach Hause nehmen.Während des zweistündigen Workshops haben die Eltern „frei“ und können sich zum Austausch in einem naheliegenden Café treffen. \n\n\n\nKursleitung:Dipl. Geologin Sandy Jaschik \n\n\n\n\n\nAchtung!!! Die Zufahrt erfolgt über den Hohlmühlenweg\, beimVereinsheim des Liederkranz kann man parken. Adresse für’s Navi: Hohmühlenweg 39\, 63628 Bad Soden-Salmünster \n\n\n\nWer teilnehmen möchte\, erwirbt bitte pro Kind ein Ticket. Zum Nachweis der Mitgliedschaft ist die Mitgliedsnummer anzugeben. Der Verkauf der Mitglied-Tickets erfolgt vorbehaltlich einer Prüfung der Mitgliedschaft.  \n\n\n\nEs stehen Plätze (Tickets) für 12 Kinder zur Verfügung.  Bei weniger als 6 Anmeldungen kann der Workshop leider nicht stattfinden.Verkaufsschluss ist der 28.08.2025 um 21:00 Uhr.  \n\n\n\n\n\n\n\n\n\n\n\n\n\n\n\nSolltet Ihr noch Fragen zu der Veranstaltung haben\, wendet Euch bitte an: main-kinzig@dghk-hessen.de  \n\n\n\nWir freuen uns auf Euch und sind gespannt darauf\, was euch die Steine erzählen!
URL:https://sandbox.dghk-hessen.de/event/workshop-steineforscher/
LOCATION:Forschergarten – Natur erleben\, Rudolf-Berta-Str. 35\, 63628 Bad Soden-Salmünster\, Germany
CATEGORIES:Kurs
ATTACH;FMTTYPE=image/jpeg:https://sandbox.dghk-hessen.de/wp-content/uploads/2025/06/steine-foto-scaled.jpg
ORGANIZER;CN="Lokalgruppe Main-Kinzig":MAILTO:main-kinzig@dghk-hessen.de
END:VEVENT
BEGIN:VEVENT
DTSTART;TZID=Europe/Berlin:20250906T130000
DTEND;TZID=Europe/Berlin:20250906T150000
DTSTAMP:20260421T040739
CREATED:20250730T151443Z
LAST-MODIFIED:20250902T190514Z
UID:10000449-1757163600-1757170800@sandbox.dghk-hessen.de
SUMMARY:Workshop "Steineforscher" 2
DESCRIPTION:Was uns die Steine erzählen \n\n\n\n\n\nFoto: Sandy Jaschik\n\n\n\nFür Kinder von 6-10 Jahren / 1. – 4. Klasse \n\n\n\nIm Forschergarten können die Kinder NATUR ERLEBEN und bekommen Geologie zum Anfassen\, Erforschen und Begreifen! \n\n\n\nMit Lupe\, Hammer und Meißel untersuchen wir verschiedenste Steine und erforschen dabei\, wie und wo sie entstanden sind. Die Steine erzählen uns von längst vergangenen Zeiten\, Vulkanausbrüchen\, ausgestorbenen Lebewesen\, wie Gebirge entstanden sind und noch vieles mehr. Am Ende kannst du deinen eigens geklopften Stein mit nach Hause nehmen.Während des zweistündigen Workshops haben die Eltern „frei“ und können sich zum Austausch in einem naheliegenden Café treffen. \n\n\n\nKursleitung:Dipl. Geologin Sandy Jaschik \n\n\n\n\n\nAchtung!!! Die Zufahrt erfolgt über den Hohlmühlenweg\, beimVereinsheim des Liederkranz kann man parken. Adresse für’s Navi: Hohmühlenweg 39\, 63628 Bad Soden-Salmünster \n\n\n\nWer teilnehmen möchte\, erwirbt bitte pro Kind ein Ticket. Zum Nachweis der Mitgliedschaft ist die Mitgliedsnummer anzugeben. Der Verkauf der Mitglied-Tickets erfolgt vorbehaltlich einer Prüfung der Mitgliedschaft.  \n\n\n\nEs stehen Plätze (Tickets) für 12 Kinder zur Verfügung.  Bei weniger als 6 Anmeldungen kann der Workshop leider nicht stattfinden.Verkaufsschluss ist der 28.08.2025 um 21:00 Uhr.  \n\n\n\n\n\n\n\n\n\n\n\n\n\n\n\nSolltet Ihr noch Fragen zu der Veranstaltung haben\, wendet Euch bitte an: main-kinzig@dghk-hessen.de  \n\n\n\nWir freuen uns auf Euch und sind gespannt darauf\, was euch die Steine erzählen!
URL:https://sandbox.dghk-hessen.de/event/workshop-steineforscher-2/
LOCATION:Forschergarten – Natur erleben\, Rudolf-Berta-Str. 35\, 63628 Bad Soden-Salmünster\, Germany
CATEGORIES:Kurs
ATTACH;FMTTYPE=image/jpeg:https://sandbox.dghk-hessen.de/wp-content/uploads/2025/06/steine-foto-scaled.jpg
ORGANIZER;CN="Lokalgruppe Main-Kinzig":MAILTO:main-kinzig@dghk-hessen.de
END:VEVENT
END:VCALENDAR