BEGIN:VCALENDAR
VERSION:2.0
PRODID:-//DGhK RV Hessen e.V. - ECPv6.15.17.1//NONSGML v1.0//EN
CALSCALE:GREGORIAN
METHOD:PUBLISH
X-ORIGINAL-URL:https://sandbox.dghk-hessen.de
X-WR-CALDESC:Veranstaltungen für DGhK RV Hessen e.V.
REFRESH-INTERVAL;VALUE=DURATION:PT1H
X-Robots-Tag:noindex
X-PUBLISHED-TTL:PT1H
BEGIN:VTIMEZONE
TZID:Europe/Berlin
BEGIN:DAYLIGHT
TZOFFSETFROM:+0100
TZOFFSETTO:+0200
TZNAME:CEST
DTSTART:20250330T010000
END:DAYLIGHT
BEGIN:STANDARD
TZOFFSETFROM:+0200
TZOFFSETTO:+0100
TZNAME:CET
DTSTART:20251026T010000
END:STANDARD
BEGIN:DAYLIGHT
TZOFFSETFROM:+0100
TZOFFSETTO:+0200
TZNAME:CEST
DTSTART:20260329T010000
END:DAYLIGHT
BEGIN:STANDARD
TZOFFSETFROM:+0200
TZOFFSETTO:+0100
TZNAME:CET
DTSTART:20261025T010000
END:STANDARD
BEGIN:DAYLIGHT
TZOFFSETFROM:+0100
TZOFFSETTO:+0200
TZNAME:CEST
DTSTART:20270328T010000
END:DAYLIGHT
BEGIN:STANDARD
TZOFFSETFROM:+0200
TZOFFSETTO:+0100
TZNAME:CET
DTSTART:20271031T010000
END:STANDARD
END:VTIMEZONE
BEGIN:VEVENT
DTSTART;TZID=Europe/Berlin:20260115T193000
DTEND;TZID=Europe/Berlin:20260115T213000
DTSTAMP:20260420T162633
CREATED:20251123T181137Z
LAST-MODIFIED:20251123T192510Z
UID:10000491-1768505400-1768512600@sandbox.dghk-hessen.de
SUMMARY:Mitglieder-Stammtisch Frankfurt und Umland
DESCRIPTION:Bild mit KI generiert\n\n\n\nStammtisch für Mitglieder der Lokalgruppe Frankfurt und Umland\n\n\n\nWir bieten für unsere Lokalgruppe Frankfurt und Umland jeden 2. Monat anstelle des bisherigen Gesprächskreises online einen Mitglieder-Stammtisch an und möchten damit unseren Mitgliedsfamilien eine Austausch- und Vernetzungsplattform ermöglichen. \n\n\n\nUnser Themenschwerpunkt für diesen Termin: \n\n\n\n„Mehr als nur klug – innere Stärke entwickeln“ Austausch zu Erfahrungen und Strategien für einen gesunden Selbstwert und soziale Balance \n\n\n\nJe nach Bedarf können wir den Austausch auch mit Break out-Rooms gestalten. \n\n\n\nWir treffen uns online via Zoom. Anmeldungen sind bis 16:00 Uhr am Tag des Mitglieder-Stammtisches möglich. Den Zoom-Link versenden wir erst zeitnah vor dem Mitglieder-Stammtisch. \n\n\n\n\n\n\n\nSolltet Ihr nach der Anmeldung unerwartet verhindert sein\, sagt Eure Teilnahme bitte per Mail an Frankfurt@dghk-hessen.de ab. \n\n\n\nWir freuen uns auf Euch und Eure Ideen! \n\n\n\nSimone Schlosske & Anja Thiemann
URL:https://sandbox.dghk-hessen.de/event/mitglieder-stammtisch-frankfurt-und-umland-3/
LOCATION:Online
CATEGORIES:Gesprächskreis
ATTACH;FMTTYPE=image/png:https://sandbox.dghk-hessen.de/wp-content/uploads/2025/07/IMG_0707.png
ORGANIZER;CN="Lokalgruppe Frankfurt und Umland":MAILTO:frankfurt@dghk-hessen.de
END:VEVENT
BEGIN:VEVENT
DTSTART;TZID=Europe/Berlin:20260119T200000
DTEND;TZID=Europe/Berlin:20260119T220000
DTSTAMP:20260420T162633
CREATED:20251222T111430Z
LAST-MODIFIED:20251222T111432Z
UID:10000499-1768852800-1768860000@sandbox.dghk-hessen.de
SUMMARY:Gesprächskreis Underachiever
DESCRIPTION:Der nächste Termin steht an. Aufbauend auf das letzte Jahr möchten wir den Gesprächskreis fortsetzen. Es sind alle herzlich eingeladen sich anzumelden. \n\n\n\nDas Treffen wird als Online-Zoommeeting stattfinden. \n\n\n\nWer teilnehmen möchte\, meldet sich bitte über das Anmeldeformular an. Anmeldungen sind bis zum 18.01.2026 möglich. \n\n\n\nDer Zoom-Link wird am Tag des Gesprächskreises versendet. \n\n\n\n\n\n\n\nSolltet ihr nach Anmeldung unerwartet verhindert sein\, sagt Eure Teilnahme bitte per Mail an markus.brandes@dghk-hessen.de ab. So können wir die begrenzten Plätze weitergeben.
URL:https://sandbox.dghk-hessen.de/event/gespraechskreis-underachiever-7/
LOCATION:Online
CATEGORIES:Gesprächskreis
ATTACH;FMTTYPE=image/png:https://sandbox.dghk-hessen.de/wp-content/uploads/2025/04/image2.png
ORGANIZER;CN="Markus Brandes":MAILTO:markus.brandes@dghk-hessen.de
END:VEVENT
BEGIN:VEVENT
DTSTART;TZID=Europe/Berlin:20260121T193000
DTEND;TZID=Europe/Berlin:20260121T220000
DTSTAMP:20260420T162633
CREATED:20251209T211251Z
LAST-MODIFIED:20251209T211253Z
UID:10000498-1769023800-1769032800@sandbox.dghk-hessen.de
SUMMARY:Gesprächskreis Wiesbaden/MTK/Rheingau
DESCRIPTION:Für Eltern\, Großeltern\, Lehrkräfte und Erzieherinnen und Erzieher hochbegabter oder vermutet hochbegabter Kinder und Jugendlicher \n\n\n\nAuch Nicht-Mitglieder sind herzlich willkommen! \n\n\n\nWir treffen uns online via Zoom. Wer teilnehmen möchte\, meldet sich bitte über das Anmeldeformular an.Anmeldungen sind bis 17:00 Uhr am Tag des Gesprächskreises möglich.Den Zoom-Link versenden wir erst zeitnah vor dem Elternstammtisch.
URL:https://sandbox.dghk-hessen.de/event/gespraechskreis-wiesbaden-mtk-rheingau-4/
LOCATION:Online
CATEGORIES:Gesprächskreis
ORGANIZER;CN="Lokalgruppe Wiesbaden - MTK - Rheingau":MAILTO:wiesbaden@dghk-hessen.de
END:VEVENT
BEGIN:VEVENT
DTSTART;TZID=Europe/Berlin:20260127T200000
DTEND;TZID=Europe/Berlin:20260127T213000
DTSTAMP:20260420T162633
CREATED:20250929T084817Z
LAST-MODIFIED:20260115T055701Z
UID:10000467-1769544000-1769549400@sandbox.dghk-hessen.de
SUMMARY:Gesprächskreis Nordhessen
DESCRIPTION:Für Eltern\, Großeltern\, Lehrkräfte und Erzieherinnen und Erzieher hochbegabter oder vermutet hochbegabter Kinder und Jugendlicher. \n\n\n\nAuch Nicht-Mitglieder sind herzlich willkommen! \n\n\n\nWir treffen uns online via Zoom. Wer teilnehmen möchte\, meldet sich bitte über das Anmeldeformular an.Anmeldungen sind bis 18:00 Uhr am Vortag des Gesprächskreises möglich.Den Zoom-Link versenden wir erst zeitnah vor dem Gesprächskreis. \n\n\n\n\n\n\n\nSolltet Ihr nach der Anmeldung unerwartet verhindert sein\, sagt Eure Teilnahme bitte per Mail an nordhessen@dghk-hessen.de ab. \n\n\n\nWir freuen uns auf ein lebhaftes Treffen! \n\n\n\nAlexandra Wagner & Anna Menken
URL:https://sandbox.dghk-hessen.de/event/gespraechskreis-nordhessen/
LOCATION:Online
CATEGORIES:Gesprächskreis
ORGANIZER;CN="Lokalgruppe Nordhessen":MAILTO:nordhessen@dghk-hessen.de
END:VEVENT
BEGIN:VEVENT
DTSTART;TZID=Europe/Berlin:20260128T200000
DTEND;TZID=Europe/Berlin:20260128T220000
DTSTAMP:20260420T162633
CREATED:20251012T085620Z
LAST-MODIFIED:20260113T201458Z
UID:10000478-1769630400-1769637600@sandbox.dghk-hessen.de
SUMMARY:Elternstammtisch Mittelhessen
DESCRIPTION:Für Eltern\, Großeltern\, Lehrkräfte und Erzieherinnen und Erzieher hochbegabter oder vermutet hochbegabter Kinder und Jugendlicher \n\n\n\nAuch Nicht-Mitglieder sind herzlich willkommen! \n\n\n\nEs wird an diesem Abend einen kurzen Initialvortrag geben zum Thema „Wie können wir unsere Kinder stärken?“ mit Fokus auf 6 – 16-Jährige. \n\n\n\nWir treffen uns online via Zoom. Wer teilnehmen möchte\, meldet sich bitte über das Anmeldeformular an.Anmeldungen sind bis 18:00 Uhr am Vortag des Elternstammtisch möglich.Den Zoom-Link versenden wir erst zeitnah vor dem Elternstammtisch.
URL:https://sandbox.dghk-hessen.de/event/elternstammtisch-mittelhessen-11/
LOCATION:Online
CATEGORIES:Gesprächskreis
ATTACH;FMTTYPE=image/png:https://sandbox.dghk-hessen.de/wp-content/uploads/2025/08/GK-Mittelhessen.png
ORGANIZER;CN="Lokalgruppe Mittelhessen":MAILTO:mittelhessen@dghk-hessen.de
END:VEVENT
END:VCALENDAR