BEGIN:VCALENDAR
VERSION:2.0
PRODID:-//DGhK RV Hessen e.V. - ECPv6.15.17.1//NONSGML v1.0//EN
CALSCALE:GREGORIAN
METHOD:PUBLISH
X-ORIGINAL-URL:https://sandbox.dghk-hessen.de
X-WR-CALDESC:Veranstaltungen für DGhK RV Hessen e.V.
REFRESH-INTERVAL;VALUE=DURATION:PT1H
X-Robots-Tag:noindex
X-PUBLISHED-TTL:PT1H
BEGIN:VTIMEZONE
TZID:Europe/Berlin
BEGIN:DAYLIGHT
TZOFFSETFROM:+0100
TZOFFSETTO:+0200
TZNAME:CEST
DTSTART:20240331T010000
END:DAYLIGHT
BEGIN:STANDARD
TZOFFSETFROM:+0200
TZOFFSETTO:+0100
TZNAME:CET
DTSTART:20241027T010000
END:STANDARD
BEGIN:DAYLIGHT
TZOFFSETFROM:+0100
TZOFFSETTO:+0200
TZNAME:CEST
DTSTART:20250330T010000
END:DAYLIGHT
BEGIN:STANDARD
TZOFFSETFROM:+0200
TZOFFSETTO:+0100
TZNAME:CET
DTSTART:20251026T010000
END:STANDARD
BEGIN:DAYLIGHT
TZOFFSETFROM:+0100
TZOFFSETTO:+0200
TZNAME:CEST
DTSTART:20260329T010000
END:DAYLIGHT
BEGIN:STANDARD
TZOFFSETFROM:+0200
TZOFFSETTO:+0100
TZNAME:CET
DTSTART:20261025T010000
END:STANDARD
END:VTIMEZONE
BEGIN:VEVENT
DTSTART;TZID=Europe/Berlin:20251112T200000
DTEND;TZID=Europe/Berlin:20251112T220000
DTSTAMP:20260422T145153
CREATED:20251012T084728Z
LAST-MODIFIED:20251012T085437Z
UID:10000462-1762977600-1762984800@sandbox.dghk-hessen.de
SUMMARY:Elternstammtisch Mittelhessen
DESCRIPTION:Für Eltern\, Großeltern\, Lehrkräfte und Erzieherinnen und Erzieher hochbegabter oder vermutet hochbegabter Kinder und Jugendlicher \n\n\n\nAuch Nicht-Mitglieder sind herzlich willkommen! \n\n\n\nWir treffen uns online via Zoom. Wer teilnehmen möchte\, meldet sich bitte über das Anmeldeformular an.Anmeldungen sind bis 18:00 Uhr am Vortag des Elternstammtisch möglich.Den Zoom-Link versenden wir erst zeitnah vor dem Elternstammtisch.
URL:https://sandbox.dghk-hessen.de/event/elternstammtisch-mittelhessen-9/
LOCATION:Online
CATEGORIES:Gesprächskreis
ATTACH;FMTTYPE=image/png:https://sandbox.dghk-hessen.de/wp-content/uploads/2025/08/GK-Mittelhessen.png
ORGANIZER;CN="Lokalgruppe Mittelhessen":MAILTO:mittelhessen@dghk-hessen.de
END:VEVENT
BEGIN:VEVENT
DTSTART;TZID=Europe/Berlin:20251113T193000
DTEND;TZID=Europe/Berlin:20251113T213000
DTSTAMP:20260422T145153
CREATED:20251008T202900Z
LAST-MODIFIED:20251008T202902Z
UID:10000476-1763062200-1763069400@sandbox.dghk-hessen.de
SUMMARY:Mitglieder-Stammtisch Frankfurt und Umland
DESCRIPTION:Bild mit KI generiert\n\n\n\nStammtisch für Mitglieder der Lokalgruppe Frankfurt und Umland\n\n\n\nWir bieten für unsere Lokalgruppe Frankfurt und Umland jeden 2. Monat anstelle des bisherigen Gesprächskreises online einen Mitglieder-Stammtisch an und möchten damit unseren Mitgliedsfamilien eine Austausch- und Vernetzungsplattform ermöglichen. \n\n\n\nUnser Themenschwerpunkt für diesen Termin: \n\n\n\n„Was tun mit dem klugen Kind?“ Austausch zu Möglichkeiten in Schule & Freizeit \n\n\n\nJe nach Bedarf können wir den Austausch getrennt nach Grundschule und Sekundarstufen mit Break out-Rooms gestalten. \n\n\n\nWir treffen uns online via Zoom. Anmeldungen sind bis 16:00 Uhr am Tag des Mitglieder-Stammtisches möglich. Den Zoom-Link versenden wir erst zeitnah vor dem Mitglieder-Stammtisch. \n\n\n\n\n\n\n\nSolltet Ihr nach der Anmeldung unerwartet verhindert sein\, sagt Eure Teilnahme bitte per Mail an Frankfurt@dghk-hessen.de ab. \n\n\n\nWir freuen uns auf Euch und Eure Ideen! \n\n\n\nSimone Schlosske & Anja Thiemann
URL:https://sandbox.dghk-hessen.de/event/mitglieder-stammtisch-frankfurt-und-umland-2/
LOCATION:Online
CATEGORIES:Gesprächskreis
ATTACH;FMTTYPE=image/png:https://sandbox.dghk-hessen.de/wp-content/uploads/2025/07/IMG_0707.png
ORGANIZER;CN="Lokalgruppe Frankfurt und Umland":MAILTO:frankfurt@dghk-hessen.de
END:VEVENT
BEGIN:VEVENT
DTSTART;TZID=Europe/Berlin:20251119T200000
DTEND;TZID=Europe/Berlin:20251119T213000
DTSTAMP:20260422T145153
CREATED:20251008T190327Z
LAST-MODIFIED:20251008T190329Z
UID:10000474-1763582400-1763587800@sandbox.dghk-hessen.de
SUMMARY:Der Teenager-GK SAFE SPACE
DESCRIPTION:Teenies unter sich \n\n\n\nNur für Vereinsmitglieder. \n\n\n\nTeenies zwischen 11 und 15 Jahren können sich hier miteinander vernetzen\, Erfahrungen austauschen und neue Freundschaften knüpfen. Wie in allen Gesprächskreisen entscheiden die Teilnehmerinnen und Teilnehmer über die Themen. Auch der Austausch über manch schwierige Situation in der Schule ist hier explizit erlaubt und erwünscht. \n\n\n\nDer Gesprächskreis findet online über Zoom statt und wird moderiert von Saskia Baisch-Zimmer\, Berufsschullehrerin und Fachbuchautorin. \n\n\n\nDamit wir alle in einer vertrauensvollen und respektvollen Atmosphäre miteinander sprechen können\, beachtet bitte folgende Regeln: \n\n\n\n\nKamera einschalten: Die Teilnahme erfolgt mit eingeschalteter Kamera und gut sichtbarer teilnehmenden Person\, damit wir ein persönliches Gesprächsgefühl schaffen können.\n\n\n\nVorname als Nutzername: Bitte verwendet mindestens Euren Vornamen als Anzeige-Namen\, damit wir uns gegenseitig ansprechen können.\n\n\n\nKeine Aufzeichnungen: Bild- oder Tonaufnahmen während des Gesprächs sind nicht gestattet\, um die Vertraulichkeit zu gewährleisten.\n\n\n\nVertraulichkeit und Verschwiegenheit: Wir legen großen Wert auf gegenseitiges Vertrauen. Daher sichern wir uns zu\, dass sensible Inhalte\, insbesondere gesundheitliche und persönliche Daten\, nicht außerhalb der Gruppe geteilt werden. Ebenso werden keine Informationen in Verbindung mit bestimmten Personen weitergegeben.\n\n\n\n\nWir danken Euch für Euer Verständnis und Eure Unterstützung\, um einen sicheren Raum für alle zu schaffen! \n\n\n\nZur besseren Vernetzung dürfen die Teilnehmenden ihre Kontaktdaten (Handynummer) austauschen.  \n\n\n\nWer teilnehmen möchte\, kann sich über das Online-Anmeldeformular anmelden. Anmeldeschluss ist 16 Uhr am Tag des Gesprächskreises. Bitte zum Nachweis der Mitgliedschaft die Mitgliedsnummer angeben! Ohne korrekte Mitgliedsnummer ist eine Teilnahme leider nicht möglich. Den Zoom-Link versenden wir am Nachmittag vor dem Gesprächskreis. \n\n\n\n\n\n\n\nSolltet Ihr nach der Anmeldung unerwartet verhindert sein\, sagt Eure Teilnahme bitte ab! \n\n\n\nIch freue mich auf Euch! \n\n\n\nSaskia Baisch-Zimmer
URL:https://sandbox.dghk-hessen.de/event/der-teenager-gk-safe-space-3/
LOCATION:Online
CATEGORIES:Gesprächskreis
ATTACH;FMTTYPE=image/jpeg:https://sandbox.dghk-hessen.de/wp-content/uploads/2025/06/Aurelia_Kosmos_A4_2025.jpg
ORGANIZER;CN="Saskia Baisch-Zimmer":MAILTO:Baisch-Zimmer@dghk-hessen.de
END:VEVENT
BEGIN:VEVENT
DTSTART;TZID=Europe/Berlin:20251127T200000
DTEND;TZID=Europe/Berlin:20251127T220000
DTSTAMP:20260422T145153
CREATED:20251101T131512Z
LAST-MODIFIED:20251101T131515Z
UID:10000482-1764273600-1764280800@sandbox.dghk-hessen.de
SUMMARY:Gesprächskreis Underachiever
DESCRIPTION:Der nächste Termin steht an. Nach dem erfolgreichen Start möchten wir gerne den Gesprächskreis weiterführen. Es sind alle herzlich eingeladen sich anzumelden. \n\n\n\nDas Treffen wird als Online-Zoommeeting stattfinden. \n\n\n\nWer teilnehmen möchte\, meldet sich bitte über das Anmeldeformular an. Anmeldungen sind bis zum 26.11.2025 möglich. \n\n\n\nDer Zoom-Link wird am Tag des Gesprächskreises versendet. \n\n\n\n\n\n\n\nSolltet ihr nach Anmeldung unerwartet verhindert sein\, sagt Eure Teilnahme bitte per Mail an markus.brandes@dghk-hessen.de ab. So können wir die begrenzten Plätze weitergeben.
URL:https://sandbox.dghk-hessen.de/event/gespraechskreis-underachiever-6/
LOCATION:Online
CATEGORIES:Gesprächskreis
ATTACH;FMTTYPE=image/png:https://sandbox.dghk-hessen.de/wp-content/uploads/2025/04/image2.png
ORGANIZER;CN="Markus Brandes":MAILTO:markus.brandes@dghk-hessen.de
END:VEVENT
END:VCALENDAR