BEGIN:VCALENDAR
VERSION:2.0
PRODID:-//DGhK RV Hessen e.V. - ECPv6.15.17.1//NONSGML v1.0//EN
CALSCALE:GREGORIAN
METHOD:PUBLISH
X-WR-CALNAME:DGhK RV Hessen e.V.
X-ORIGINAL-URL:https://sandbox.dghk-hessen.de
X-WR-CALDESC:Veranstaltungen für DGhK RV Hessen e.V.
REFRESH-INTERVAL;VALUE=DURATION:PT1H
X-Robots-Tag:noindex
X-PUBLISHED-TTL:PT1H
BEGIN:VTIMEZONE
TZID:Europe/Berlin
BEGIN:DAYLIGHT
TZOFFSETFROM:+0100
TZOFFSETTO:+0200
TZNAME:CEST
DTSTART:20240331T010000
END:DAYLIGHT
BEGIN:STANDARD
TZOFFSETFROM:+0200
TZOFFSETTO:+0100
TZNAME:CET
DTSTART:20241027T010000
END:STANDARD
BEGIN:DAYLIGHT
TZOFFSETFROM:+0100
TZOFFSETTO:+0200
TZNAME:CEST
DTSTART:20250330T010000
END:DAYLIGHT
BEGIN:STANDARD
TZOFFSETFROM:+0200
TZOFFSETTO:+0100
TZNAME:CET
DTSTART:20251026T010000
END:STANDARD
BEGIN:DAYLIGHT
TZOFFSETFROM:+0100
TZOFFSETTO:+0200
TZNAME:CEST
DTSTART:20260329T010000
END:DAYLIGHT
BEGIN:STANDARD
TZOFFSETFROM:+0200
TZOFFSETTO:+0100
TZNAME:CET
DTSTART:20261025T010000
END:STANDARD
END:VTIMEZONE
BEGIN:VEVENT
DTSTART;TZID=Europe/Berlin:20250604T180000
DTEND;TZID=Europe/Berlin:20250604T193000
DTSTAMP:20260422T231049
CREATED:20250517T084558Z
LAST-MODIFIED:20250517T084559Z
UID:10000420-1749060000-1749065400@sandbox.dghk-hessen.de
SUMMARY:Gesprächskreis Odenwald
DESCRIPTION:…Trommelwirbel… \n\n\n\n… neuer Gesprächskreis Odenwald für Eltern\, Großeltern\, Lehrkräfte und Erzieherinnen und Erzieher hochbegabter oder vermutet hochbegabter Kinder und Jugendlicher! \n\n\n\nWir freuen uns sehr\, euch zu unserem allerersten Gesprächskreis einzuladen!Der Plan ist ein erstes\, zwangloses Kennenlernen in lockerem Kreis. Wir treffen uns im „Fuchsbau“. Auch Nicht-Mitglieder sind herzlich willkommen! \n\n\n\n\n\nWer teilnehmen möchte\, meldet sich bitte über das Anmeldeformular an. Die Anmeldefrist endet am 03.06.2025\, 12.00 Uhr. \n\n\n\nEine Teilnahme via Zoom ist ebenfalls möglich. Den Link versenden wir am Tag des Gesprächskreises. \n\n\n\nWählt bitte für eine Teilnahme vor Ort das Präsenz-Ticket  aus\, für eine Teilnahme per Zoom das Online-Ticket. \n\n\n\n\n\n\n\n\n\n\n\n\n\n\n\nFalls ihr nach der Anmeldung doch nicht teilnehmen könnt\, sagt bitte per Mail an odenwald@dghk-hessen.de ab. \n\n\n\nWir freuen uns auf euch! \n\n\n\nDorothee Deitrich\, Kerstin Lang\, Julia Krippner und Julia Groll-Fornoff
URL:https://sandbox.dghk-hessen.de/event/gespraechskreis-odenwald/
LOCATION:Bad König Zell Fuchsbau\, Zeller Gewerbezentrum 4a\, Bad König\, Hessen\, 64732\, Germany
CATEGORIES:Gesprächskreis
ATTACH;FMTTYPE=image/jpeg:https://sandbox.dghk-hessen.de/wp-content/uploads/2025/05/IMG-20240531-WA0001-e1747249674345.jpg
ORGANIZER;CN="Lokalgruppe Odenwald":MAILTO:odenwald@dghk-hessen.de
END:VEVENT
BEGIN:VEVENT
DTSTART;TZID=Europe/Berlin:20250604T193000
DTEND;TZID=Europe/Berlin:20250604T220000
DTSTAMP:20260422T231049
CREATED:20250516T084022Z
LAST-MODIFIED:20250516T161526Z
UID:10000422-1749065400-1749074400@sandbox.dghk-hessen.de
SUMMARY:Gesprächskreis Wiesbaden/MTK/Rheingau
DESCRIPTION:Für Eltern\, Großeltern\, Lehrkräfte und Erzieherinnen und Erzieher hochbegabter oder vermutet hochbegabter Kinder und Jugendlicher \n\n\n\nAuch Nicht-Mitglieder sind herzlich willkommen! \n\n\n\nWir treffen uns online via Zoom. Wer teilnehmen möchte\, meldet sich bitte über das Anmeldeformular an.Anmeldungen sind bis 17:00 Uhr am Tag des Gesprächskreises möglich.Den Zoom-Link versenden wir erst zeitnah vor dem Elternstammtisch.
URL:https://sandbox.dghk-hessen.de/event/gespraechskreis-wiesbaden-mtk-rheingau-2/
LOCATION:Online
CATEGORIES:Gesprächskreis
ORGANIZER;CN="Lokalgruppe Wiesbaden - MTK - Rheingau":MAILTO:wiesbaden@dghk-hessen.de
END:VEVENT
BEGIN:VEVENT
DTSTART;TZID=Europe/Berlin:20250611T193000
DTEND;TZID=Europe/Berlin:20250611T220000
DTSTAMP:20260422T231049
CREATED:20250516T070000Z
LAST-MODIFIED:20250516T071208Z
UID:10000421-1749670200-1749679200@sandbox.dghk-hessen.de
SUMMARY:Elternstammtisch Mittelhessen
DESCRIPTION:Elternstammtisch mit Vortrag zum Thema ‚Tics‘ von Frau Stephanie Knagge. \n\n\n\nFür Eltern\, Großeltern\, Lehrkräfte und Erzieherinnen und Erzieher hochbegabter oder vermutet hochbegabter Kinder und Jugendlicher \n\n\n\nAuch Nicht-Mitglieder sind herzlich willkommen! \n\n\n\nWir treffen uns online via Zoom. Wer teilnehmen möchte\, meldet sich bitte über das Anmeldeformular an.Anmeldungen sind bis 18:00 Uhr am Vortag des Elternstammtisch möglich.Den Zoom-Link versenden wir erst zeitnah vor dem Elternstammtisch.
URL:https://sandbox.dghk-hessen.de/event/elternstammtisch-mittelhessen-6/
LOCATION:Online
CATEGORIES:Gesprächskreis
ORGANIZER;CN="Lokalgruppe Mittelhessen":MAILTO:mittelhessen@dghk-hessen.de
END:VEVENT
BEGIN:VEVENT
DTSTART;TZID=Europe/Berlin:20250612T193000
DTEND;TZID=Europe/Berlin:20250612T213000
DTSTAMP:20260422T231049
CREATED:20250407T090336Z
LAST-MODIFIED:20250509T105859Z
UID:10000401-1749756600-1749763800@sandbox.dghk-hessen.de
SUMMARY:Gesprächskreis Frankfurt und Umland - Themenabend
DESCRIPTION:Für Eltern\, Großeltern\, Lehrkräfte und Erzieherinnen und Erzieher hochbegabter oder vermutet hochbegabter Kinder und Jugendlicher \n\n\n\nAuch Nicht-Mitglieder sind herzlich willkommen! \n\n\n\nThema: Begabungsförderung an Schulen\n\n\n\nGäste: Stephanie Pinke (HIBB-Regionalkoordinatorin am Schulamt Frankfurt) und Alexander Fay (HIBB-Regionalkoordinator am Schulamt Landkreis Groß-Gerau und Main-Taunus-Kreis) \n\n\n\nWir treffen uns online via Zoom. Wer teilnehmen möchte\, meldet sich bitte über das Anmeldeformular an.Anmeldungen sind bis 16:00 Uhr am Tag des Gesprächskreises möglich.Den Zoom-Link versenden wir erst zeitnah vor dem Gesprächskreis. \n\n\n\n\n\n\n\nSolltet Ihr nach der Anmeldung unerwartet verhindert sein\, sagt Eure Teilnahme bitte per Mail an Frankfurt@dghk-hessen.de ab. \n\n\n\nWir freuen uns auf ein lebhaftes Treffen! \n\n\n\nSimone Schlosske & Anja Thiemann
URL:https://sandbox.dghk-hessen.de/event/gespraechskreis-frankfurt-und-umland-2/
LOCATION:Online
CATEGORIES:Gesprächskreis
ATTACH;FMTTYPE=image/jpeg:https://sandbox.dghk-hessen.de/wp-content/uploads/2025/02/Frankfurt-e1739737897471.jpg
ORGANIZER;CN="Gespr%C3%A4chskreis Frankfurt und Umland":MAILTO:Frankfurt@dghk-hessen.de
END:VEVENT
BEGIN:VEVENT
DTSTART;TZID=Europe/Berlin:20250625T183000
DTEND;TZID=Europe/Berlin:20250625T193000
DTSTAMP:20260422T231049
CREATED:20250606T102645Z
LAST-MODIFIED:20250606T115323Z
UID:10000431-1750876200-1750879800@sandbox.dghk-hessen.de
SUMMARY:Der Teenager-GK SAFE SPACE - Viertklässler-Edition
DESCRIPTION:Der Teenager-Gesprächskreis SAFE Space lädt Viertklässler ein! \n\n\n\nNur für Vereinsmitglieder. \n\n\n\nLiebe Viertklässler! \n\n\n\nStellt uns Eure Fragen zu Eurem bevorstehenden Schulwechsel.Wir\, Teilnehmende des Teenager-Gesprächskreises im Alter von 11 bis 15 Jahren\, erzählen Euch\, wie es bei uns so war und geben Euch gern Tipps. \n\n\n\nLiebe Eltern der Viertklässler\, \n\n\n\ndie Teilnehmenden unseres Teenager-Gesprächskreises haben sich an ihren eigenen Übertritt in die weiterführende Schule erinnert und fanden\, dass es ihnen echt geholfen hätte\, ältere Ansprechpartner/innen für ihre Fragen zu haben. Bitte meldet Eure Kinder an\, wenn sie die Einladung unseres Teenager-GK annehmen möchten. Während der Veranstaltung müsstet Ihr bitte in der Nähe Eurer Viertklässler bleiben\, damit Ihr helfen könnt beim Beschriften des virtuellen Namensschilds\, Melden\, Mikro an/aus etc. \n\n\n\nAuf Eure Anmeldungen freuen sich die Teenager vom SAFE SPACE GK und Anja Thiemann. \n\n\n\nDamit wir alle in einer vertrauensvollen und respektvollen Atmosphäre miteinander sprechen können\, beachtet bitte folgende Regeln: \n\n\n\n\nKamera einschalten: Die Teilnahme erfolgt mit eingeschalteter Kamera und gut sichtbarer teilnehmenden Person\, damit wir ein persönliches Gesprächsgefühl schaffen können.\n\n\n\nVorname als Nutzername: Bitte verwendet mindestens Euren Vornamen als Anzeige-Namen\, damit wir uns gegenseitig ansprechen können.\n\n\n\nKeine Aufzeichnungen: Bild- oder Tonaufnahmen während des Gesprächs sind nicht gestattet\, um die Vertraulichkeit zu gewährleisten.\n\n\n\nVertraulichkeit und Verschwiegenheit: Wir legen großen Wert auf gegenseitiges Vertrauen. Daher sichern wir uns zu\, dass sensible Inhalte\, insbesondere gesundheitliche und persönliche Daten\, nicht außerhalb der Gruppe geteilt werden. Ebenso werden keine Informationen in Verbindung mit bestimmten Personen weitergegeben.\n\n\n\n\nWir danken Euch für Euer Verständnis und Eure Unterstützung\, um einen sicheren Raum für alle zu schaffen! \n\n\n\nZur besseren Vernetzung dürfen die Teilnehmenden ihre Kontaktdaten (Handynummer) austauschen.  \n\n\n\nWer teilnehmen möchte\, kann sich über das Online-Anmeldeformular anmelden. Anmeldeschluss ist 16 Uhr am Tag des Gesprächskreises. Bitte zum Nachweis der Mitgliedschaft die Mitgliedsnummer angeben! Ohne korrekte Mitgliedsnummer ist eine Teilnahme leider nicht möglich. Den Zoom-Link versenden wir am Nachmittag vor dem Gesprächskreis. \n\n\n\n\n\n\n\nSolltet Ihr nach der Anmeldung unerwartet verhindert sein\, sagt Eure Teilnahme bitte ab! \n\n\n\nWir freuen uns auf Euch!
URL:https://sandbox.dghk-hessen.de/event/der-teenager-gk-safe-space-viertklaessler-edition/
LOCATION:Online
CATEGORIES:Gesprächskreis
ATTACH;FMTTYPE=image/jpeg:https://sandbox.dghk-hessen.de/wp-content/uploads/2025/06/Aurelia_Kosmos_A4_2025.jpg
ORGANIZER;CN="Veranstaltungsteam DGhK Hessen":MAILTO:Veranstaltung@dghk-hessen.de
END:VEVENT
BEGIN:VEVENT
DTSTART;TZID=Europe/Berlin:20250625T193000
DTEND;TZID=Europe/Berlin:20250625T210000
DTSTAMP:20260422T231049
CREATED:20250606T100649Z
LAST-MODIFIED:20250606T103024Z
UID:10000430-1750879800-1750885200@sandbox.dghk-hessen.de
SUMMARY:Der Teenager-GK SAFE SPACE
DESCRIPTION:Teenies unter sich \n\n\n\nNur für Vereinsmitglieder. \n\n\n\nTeenies zwischen 11 und 15 Jahren können sich hier miteinander vernetzen\, Erfahrungen austauschen und neue Freundschaften knüpfen. Wie in allen Gesprächskreisen entscheiden die Teilnehmerinnen und Teilnehmer über die Themen. Auch der Austausch über manch schwierige Situation in der Schule ist hier explizit erlaubt und erwünscht. \n\n\n\nDer Gesprächskreis findet online über Zoom statt und wird moderiert von Saskia Baisch-Zimmer\, Berufsschullehrerin und Fachbuchautorin. \n\n\n\nDamit wir alle in einer vertrauensvollen und respektvollen Atmosphäre miteinander sprechen können\, beachtet bitte folgende Regeln: \n\n\n\n\nKamera einschalten: Die Teilnahme erfolgt mit eingeschalteter Kamera und gut sichtbarer teilnehmenden Person\, damit wir ein persönliches Gesprächsgefühl schaffen können.\n\n\n\nVorname als Nutzername: Bitte verwendet mindestens Euren Vornamen als Anzeige-Namen\, damit wir uns gegenseitig ansprechen können.\n\n\n\nKeine Aufzeichnungen: Bild- oder Tonaufnahmen während des Gesprächs sind nicht gestattet\, um die Vertraulichkeit zu gewährleisten.\n\n\n\nVertraulichkeit und Verschwiegenheit: Wir legen großen Wert auf gegenseitiges Vertrauen. Daher sichern wir uns zu\, dass sensible Inhalte\, insbesondere gesundheitliche und persönliche Daten\, nicht außerhalb der Gruppe geteilt werden. Ebenso werden keine Informationen in Verbindung mit bestimmten Personen weitergegeben.\n\n\n\n\nWir danken Euch für Euer Verständnis und Eure Unterstützung\, um einen sicheren Raum für alle zu schaffen! \n\n\n\nZur besseren Vernetzung dürfen die Teilnehmenden ihre Kontaktdaten (Handynummer) austauschen.  \n\n\n\nWer teilnehmen möchte\, kann sich über das Online-Anmeldeformular anmelden. Anmeldeschluss ist 16 Uhr am Tag des Gesprächskreises. Bitte zum Nachweis der Mitgliedschaft die Mitgliedsnummer angeben! Ohne korrekte Mitgliedsnummer ist eine Teilnahme leider nicht möglich. Den Zoom-Link versenden wir am Nachmittag vor dem Gesprächskreis. \n\n\n\n\n\n\n\nSolltet Ihr nach der Anmeldung unerwartet verhindert sein\, sagt Eure Teilnahme bitte ab! \n\n\n\nIch freue mich auf Euch! \n\n\n\nSaskia Baisch-Zimmer
URL:https://sandbox.dghk-hessen.de/event/der-teenager-gespraechskreis-safe-space/
LOCATION:Online
CATEGORIES:Gesprächskreis
ATTACH;FMTTYPE=image/jpeg:https://sandbox.dghk-hessen.de/wp-content/uploads/2025/06/Aurelia_Kosmos_A4_2025.jpg
ORGANIZER;CN="Saskia Baisch-Zimmer":MAILTO:Baisch-Zimmer@dghk-hessen.de
END:VEVENT
END:VCALENDAR