BEGIN:VCALENDAR
VERSION:2.0
PRODID:-//DGhK RV Hessen e.V. - ECPv6.15.17.1//NONSGML v1.0//EN
CALSCALE:GREGORIAN
METHOD:PUBLISH
X-ORIGINAL-URL:https://sandbox.dghk-hessen.de
X-WR-CALDESC:Veranstaltungen für DGhK RV Hessen e.V.
REFRESH-INTERVAL;VALUE=DURATION:PT1H
X-Robots-Tag:noindex
X-PUBLISHED-TTL:PT1H
BEGIN:VTIMEZONE
TZID:Europe/Berlin
BEGIN:DAYLIGHT
TZOFFSETFROM:+0100
TZOFFSETTO:+0200
TZNAME:CEST
DTSTART:20240331T010000
END:DAYLIGHT
BEGIN:STANDARD
TZOFFSETFROM:+0200
TZOFFSETTO:+0100
TZNAME:CET
DTSTART:20241027T010000
END:STANDARD
BEGIN:DAYLIGHT
TZOFFSETFROM:+0100
TZOFFSETTO:+0200
TZNAME:CEST
DTSTART:20250330T010000
END:DAYLIGHT
BEGIN:STANDARD
TZOFFSETFROM:+0200
TZOFFSETTO:+0100
TZNAME:CET
DTSTART:20251026T010000
END:STANDARD
BEGIN:DAYLIGHT
TZOFFSETFROM:+0100
TZOFFSETTO:+0200
TZNAME:CEST
DTSTART:20260329T010000
END:DAYLIGHT
BEGIN:STANDARD
TZOFFSETFROM:+0200
TZOFFSETTO:+0100
TZNAME:CET
DTSTART:20261025T010000
END:STANDARD
END:VTIMEZONE
BEGIN:VEVENT
DTSTART;TZID=Europe/Berlin:20250402T193000
DTEND;TZID=Europe/Berlin:20250402T220000
DTSTAMP:20260423T024357
CREATED:20250303T200727Z
LAST-MODIFIED:20250420T161911Z
UID:10000384-1743622200-1743631200@sandbox.dghk-hessen.de
SUMMARY:Gesprächskreis Wiesbaden/MTK/Rheingau
DESCRIPTION:Für Eltern\, Großeltern\, Lehrkräfte und Erzieherinnen und Erzieher hochbegabter oder vermutet hochbegabter Kinder und Jugendlicher \n\n\n\n\n\n\n\n\n\nAuch Nicht-Mitglieder sind herzlich willkommen! \n\n\n\nWir treffen uns online via Zoom. Wer teilnehmen möchte\, meldet sich bitte über das Anmeldeformular an.Anmeldungen sind bis 17:00 Uhr am Tag des Gesprächskreises möglich.Den Zoom-Link versenden wir erst zeitnah vor dem Elternstammtisch.
URL:https://sandbox.dghk-hessen.de/event/elternstammtisch-wiesbaden-mtk-rheingau-3/
LOCATION:Online
CATEGORIES:Gesprächskreis
ORGANIZER;CN="Lokalgruppe Wiesbaden - MTK - Rheingau":MAILTO:wiesbaden@dghk-hessen.de
END:VEVENT
BEGIN:VEVENT
DTSTART;TZID=Europe/Berlin:20250403T193000
DTEND;TZID=Europe/Berlin:20250403T213000
DTSTAMP:20260423T024357
CREATED:20250314T192734Z
LAST-MODIFIED:20250315T195608Z
UID:10000396-1743708600-1743715800@sandbox.dghk-hessen.de
SUMMARY:Gesprächskreis Frankfurt und Umland
DESCRIPTION:Für Eltern\, Großeltern\, Lehrkräfte und Erzieherinnen und Erzieher hochbegabter oder vermutet hochbegabter Kinder und Jugendlicher \n\n\n\nAuch Nicht-Mitglieder sind herzlich willkommen! \n\n\n\nWir treffen uns online via Zoom. Wer teilnehmen möchte\, meldet sich bitte über das Anmeldeformular an.Anmeldungen sind bis 16:00 Uhr am Tag des Gesprächskreises möglich.Den Zoom-Link versenden wir erst zeitnah vor dem Gesprächskreis. \n\n\n\n\n\n\n\nSolltet Ihr nach der Anmeldung unerwartet verhindert sein\, sagt Eure Teilnahme bitte per Mail an Frankfurt@dghk-hessen.de ab. \n\n\n\nWir freuen uns auf ein lebhaftes Treffen! \n\n\n\nSimone Schlosske & Anja Thiemann
URL:https://sandbox.dghk-hessen.de/event/gespraechskreis-frankfurt-8/
LOCATION:Online
CATEGORIES:Gesprächskreis
ATTACH;FMTTYPE=image/jpeg:https://sandbox.dghk-hessen.de/wp-content/uploads/2025/02/Frankfurt-e1739737897471.jpg
ORGANIZER;CN="Gespr%C3%A4chskreis Frankfurt und Umland":MAILTO:Frankfurt@dghk-hessen.de
END:VEVENT
BEGIN:VEVENT
DTSTART;TZID=Europe/Berlin:20250407T200000
DTEND;TZID=Europe/Berlin:20250407T220000
DTSTAMP:20260423T024357
CREATED:20250305T182806Z
LAST-MODIFIED:20250305T182807Z
UID:10000385-1744056000-1744063200@sandbox.dghk-hessen.de
SUMMARY:Gesprächskreis Underachiever
DESCRIPTION:Der nächste Termin steht an. Nach dem erfolgreichen Start möchten wir gerne den Gesprächskreis weiterführen. Es sind alle herzlich eingeladen sich anzumelden. \n\n\n\nZu diesem Termin ist das Thema: Schule – Lernen \n\n\n\nDas Treffen wird als Online-Zoommeeting stattfinden. \n\n\n\nWer teilnehmen möchte\, meldet sich bitte über das Anmeldeformular an. Anmeldungen sind bis zum 06.04.2025 möglich. \n\n\n\nDer Zoom-Link wird am Tag des Gesprächskreises versendet. \n\n\n\n\n\n\n\nSolltet ihr nach Anmeldung unerwartet verhindert sein\, sagt Eure Teilnahme bitte per Mail an markus.brandes@dghk-hessen.de ab. So können wir die begrenzten Plätze weitergeben.
URL:https://sandbox.dghk-hessen.de/event/gespraechskreis-underachiever-3/
LOCATION:Online
CATEGORIES:Gesprächskreis
ORGANIZER;CN="Markus Brandes":MAILTO:markus.brandes@dghk-hessen.de
END:VEVENT
BEGIN:VEVENT
DTSTART;TZID=Europe/Berlin:20250423T193000
DTEND;TZID=Europe/Berlin:20250423T220000
DTSTAMP:20260423T024357
CREATED:20250420T161939Z
LAST-MODIFIED:20250420T164834Z
UID:10000415-1745436600-1745445600@sandbox.dghk-hessen.de
SUMMARY:Gesprächskreis Wiesbaden/MTK/Rheingau
DESCRIPTION:Für Eltern\, Großeltern\, Lehrkräfte und Erzieherinnen und Erzieher hochbegabter oder vermutet hochbegabter Kinder und Jugendlicher \n\n\n\n\n\n\n\n\n\nAuch Nicht-Mitglieder sind herzlich willkommen! \n\n\n\nWir treffen uns online via Zoom. Wer teilnehmen möchte\, meldet sich bitte über das Anmeldeformular an.Anmeldungen sind bis 17:00 Uhr am Tag des Gesprächskreises möglich.Den Zoom-Link versenden wir erst zeitnah vor dem Elternstammtisch.
URL:https://sandbox.dghk-hessen.de/event/gespraechskreis-wiesbaden-mtk-rheingau/
LOCATION:Online
CATEGORIES:Gesprächskreis
ORGANIZER;CN="Lokalgruppe Wiesbaden - MTK - Rheingau":MAILTO:wiesbaden@dghk-hessen.de
END:VEVENT
BEGIN:VEVENT
DTSTART;TZID=Europe/Berlin:20250429T193000
DTEND;TZID=Europe/Berlin:20250429T210000
DTSTAMP:20260423T024357
CREATED:20250320T134748Z
LAST-MODIFIED:20250320T154917Z
UID:10000397-1745955000-1745960400@sandbox.dghk-hessen.de
SUMMARY:Teenager-Gesprächskreis
DESCRIPTION:Adobe Stock | #237746377\n\n\n\nTeenies unter sich \n\n\n\nNur für Vereinsmitglieder. \n\n\n\nTeenies zwischen 11 und 15 Jahren können sich hier miteinander vernetzen\, Erfahrungen austauschen und neue Freundschaften knüpfen. Wie in allen Gesprächskreisen entscheiden die Teilnehmerinnen und Teilnehmer über die Themen. Auch der Austausch über manch schwierige Situation in der Schule ist hier explizit erlaubt und erwünscht. \n\n\n\nDer Gesprächskreis findet online über Zoom statt und wird moderiert von Saskia Baisch-Zimmer\, Berufsschullehrerin und Fachbuchautorin. \n\n\n\nDamit wir alle in einer vertrauensvollen und respektvollen Atmosphäre miteinander sprechen können\, beachtet bitte folgende Regeln: \n\n\n\n\nKamera einschalten: Die Teilnahme erfolgt mit eingeschalteter Kamera und gut sichtbarer teilnehmenden Person\, damit wir ein persönliches Gesprächsgefühl schaffen können.\n\n\n\nVorname als Nutzername: Bitte verwendet mindestens Euren Vornamen als Anzeige-Namen\, damit wir uns gegenseitig ansprechen können.\n\n\n\nKeine Aufzeichnungen: Bild- oder Tonaufnahmen während des Gesprächs sind nicht gestattet\, um die Vertraulichkeit zu gewährleisten.\n\n\n\n\nVertraulichkeit und Verschwiegenheit: Wir legen großen Wert auf gegenseitiges Vertrauen. Daher sichern wir uns zu\, dass sensible Inhalte\, insbesondere gesundheitliche und persönliche Daten\, nicht außerhalb der Gruppe geteilt werden. Ebenso werden keine Informationen in Verbindung mit bestimmten Personen weitergegeben. \n\n\n\nWir danken Euch für Euer Verständnis und Eure Unterstützung\, um einen sicheren Raum für alle zu schaffen! \n\n\n\nZur besseren Vernetzung dürfen die Teilnehmenden ihre Kontaktdaten (Handynummer) austauschen.  \n\n\n\nWer teilnehmen möchte\, kann sich ab 01.04.2025 über das Online-Anmeldeformular anmelden. Anmeldeschluss ist 16 Uhr am Tag des Gesprächskreises. Bitte zum Nachweis der Mitgliedschaft die Mitgliedsnummer angeben! Ohne korrekte Mitgliedsnummer ist eine Teilnahme leider nicht möglich. Den Zoom-Link versenden wir am Nachmittag vor dem Gesprächskreis. \n\n\n\n\n\n\n\nSolltet Ihr nach der Anmeldung unerwartet verhindert sein\, sagt Eure Teilnahme bitte ab! \n\n\n\nIch freue mich auf Euch! \n\n\n\nSaskia Baisch-Zimmer
URL:https://sandbox.dghk-hessen.de/event/teenager-gespraechskreis-7/
LOCATION:Online
CATEGORIES:Gesprächskreis
ATTACH;FMTTYPE=image/jpeg:https://sandbox.dghk-hessen.de/wp-content/uploads/2025/02/AdobeStock_237746377-scaled.jpeg
ORGANIZER;CN="Saskia Baisch-Zimmer":MAILTO:Baisch-Zimmer@dghk-hessen.de
END:VEVENT
BEGIN:VEVENT
DTSTART;TZID=Europe/Berlin:20250429T200000
DTEND;TZID=Europe/Berlin:20250429T220000
DTSTAMP:20260423T024357
CREATED:20250417T115401Z
LAST-MODIFIED:20250421T084031Z
UID:10000381-1745956800-1745964000@sandbox.dghk-hessen.de
SUMMARY:Elternstammtisch Mittelhessen
DESCRIPTION:Für Eltern\, Großeltern\, Lehrkräfte und Erzieherinnen und Erzieher hochbegabter oder vermutet hochbegabter Kinder und Jugendlicher \n\n\n\nAuch Nicht-Mitglieder sind herzlich willkommen! \n\n\n\nWir treffen uns online via Zoom. Wer teilnehmen möchte\, meldet sich bitte über das Anmeldeformular an.Anmeldungen sind bis 18:00 Uhr am Vortag des Elternstammtisch möglich.Den Zoom-Link versenden wir erst zeitnah vor dem Elternstammtisch.
URL:https://sandbox.dghk-hessen.de/event/elternstammtisch-mittelhessen-5/
LOCATION:Online
CATEGORIES:Gesprächskreis
ORGANIZER;CN="Lokalgruppe Mittelhessen":MAILTO:mittelhessen@dghk-hessen.de
END:VEVENT
END:VCALENDAR