BEGIN:VCALENDAR
VERSION:2.0
PRODID:-//DGhK RV Hessen e.V. - ECPv6.15.17.1//NONSGML v1.0//EN
CALSCALE:GREGORIAN
METHOD:PUBLISH
X-ORIGINAL-URL:https://sandbox.dghk-hessen.de
X-WR-CALDESC:Veranstaltungen für DGhK RV Hessen e.V.
REFRESH-INTERVAL;VALUE=DURATION:PT1H
X-Robots-Tag:noindex
X-PUBLISHED-TTL:PT1H
BEGIN:VTIMEZONE
TZID:Europe/Berlin
BEGIN:DAYLIGHT
TZOFFSETFROM:+0100
TZOFFSETTO:+0200
TZNAME:CEST
DTSTART:20240331T010000
END:DAYLIGHT
BEGIN:STANDARD
TZOFFSETFROM:+0200
TZOFFSETTO:+0100
TZNAME:CET
DTSTART:20241027T010000
END:STANDARD
BEGIN:DAYLIGHT
TZOFFSETFROM:+0100
TZOFFSETTO:+0200
TZNAME:CEST
DTSTART:20250330T010000
END:DAYLIGHT
BEGIN:STANDARD
TZOFFSETFROM:+0200
TZOFFSETTO:+0100
TZNAME:CET
DTSTART:20251026T010000
END:STANDARD
BEGIN:DAYLIGHT
TZOFFSETFROM:+0100
TZOFFSETTO:+0200
TZNAME:CEST
DTSTART:20260329T010000
END:DAYLIGHT
BEGIN:STANDARD
TZOFFSETFROM:+0200
TZOFFSETTO:+0100
TZNAME:CET
DTSTART:20261025T010000
END:STANDARD
END:VTIMEZONE
BEGIN:VEVENT
DTSTART;TZID=Europe/Berlin:20250204T183000
DTEND;TZID=Europe/Berlin:20250204T200000
DTSTAMP:20260423T062732
CREATED:20250127T205315Z
LAST-MODIFIED:20250127T205316Z
UID:10000363-1738693800-1738699200@sandbox.dghk-hessen.de
SUMMARY:Gesprächskreis Osthessen
DESCRIPTION:Online \n\n\n\nFür Eltern\, Großeltern\, Lehrkräfte und Erzieherinnen und Erzieher hochbegabter oder vermutet hochbegabter Kinder und Jugendlicher \n\n\n\nAuch Nicht-Mitglieder sind herzlich willkommen! \n\n\n\nWir treffen uns online via Zoom. Wer teilnehmen möchte\, meldet sich bitte über das Anmeldeformular an.Anmeldungen sind bis 16:00 Uhr am Tag des Gesprächskreises möglich.Den Zoom-Link versenden wir erst zeitnah vor dem Gesprächskreis. \n\n\n\n\n\nKostenlos \n\n\n\nSolltet Ihr nach der Anmeldung unerwartet verhindert sein\, sagt Eure Teilnahme bitte per Mail an osthessen@dghk-hessen.de ab. \n\n\n\nIch freue mich auf ein lebhaftes Treffen! \n\n\n\nMichaela Uffelmann
URL:https://sandbox.dghk-hessen.de/event/gespraechskreis-osthessen-3/
LOCATION:Online
CATEGORIES:Gesprächskreis
ORGANIZER;CN="Lokalgruppe Osthessen":MAILTO:osthessen@dghk-hessen.de
END:VEVENT
BEGIN:VEVENT
DTSTART;TZID=Europe/Berlin:20250211T200000
DTEND;TZID=Europe/Berlin:20250211T220000
DTSTAMP:20260423T062732
CREATED:20250119T140157Z
LAST-MODIFIED:20250119T154944Z
UID:10000358-1739304000-1739311200@sandbox.dghk-hessen.de
SUMMARY:Gesprächskreis Underachiever
DESCRIPTION:Der dritte Termin steht an. Nach dem erfolgreichen Start möchten wir gerne den Gesprächskreis weiterführen. Es sind alle herzlich eingeladen sich anzumelden. \n\n\n\nZu diesem Termin ist das Thema: Schule \n\n\n\nDas Treffen wird als Online-Zoommeeting stattfinden. \n\n\n\nWer teilnehmen möchte\, meldet sich bitte über das Anmeldeformular an. Anmeldungen sind bis zum 09.02.2025 möglich. \n\n\n\nDer Zoom-Link wird am Tag des Gesprächskreises versendet. \n\n\n\n\n\n\n\nSolltet ihr nach Anmeldung unerwartet verhindert sein\, sagt Eure Teilnahme bitte per Mail an markus.brandes@dghk-hessen.de ab. So können wir die begrenzten Plätze weitergeben.
URL:https://sandbox.dghk-hessen.de/event/gespraechskreis-underachiever-2/
LOCATION:Online
CATEGORIES:Gesprächskreis
ORGANIZER;CN="Markus Brandes":MAILTO:markus.brandes@dghk-hessen.de
END:VEVENT
BEGIN:VEVENT
DTSTART;TZID=Europe/Berlin:20250213T193000
DTEND;TZID=Europe/Berlin:20250213T213000
DTSTAMP:20260423T062732
CREATED:20250117T131020Z
LAST-MODIFIED:20250117T131021Z
UID:10000359-1739475000-1739482200@sandbox.dghk-hessen.de
SUMMARY:Gesprächskreis Frankfurt
DESCRIPTION:Für Eltern\, Großeltern\, Lehrkräfte und Erzieherinnen und Erzieher hochbegabter oder vermutet hochbegabter Kinder und Jugendlicher \n\n\n\nAuch Nicht-Mitglieder sind herzlich willkommen! \n\n\n\nWir treffen uns online via Zoom. Wer teilnehmen möchte\, meldet sich bitte über das Anmeldeformular an.Anmeldungen sind bis 16:00 Uhr am Tag des Gesprächskreises möglich.Den Zoom-Link versenden wir erst zeitnah vor dem Gesprächskreis. \n\n\n\n\n\n\n\nSolltet Ihr nach der Anmeldung unerwartet verhindert sein\, sagt Eure Teilnahme bitte per Mail an Frankfurt@dghk-hessen.de ab. \n\n\n\nWir freuen uns auf ein lebhaftes Treffen! \n\n\n\nSimone Schlosske & Anja Thiemann
URL:https://sandbox.dghk-hessen.de/event/gespraechskreis-frankfurt-6/
LOCATION:Online
CATEGORIES:Gesprächskreis
ORGANIZER;CN="Gespr%C3%A4chskreis Frankfurt und Umland":MAILTO:Frankfurt@dghk-hessen.de
END:VEVENT
BEGIN:VEVENT
DTSTART;TZID=Europe/Berlin:20250220T193000
DTEND;TZID=Europe/Berlin:20250220T210000
DTSTAMP:20260423T062732
CREATED:20250203T181116Z
LAST-MODIFIED:20250203T181117Z
UID:10000369-1740079800-1740085200@sandbox.dghk-hessen.de
SUMMARY:Teenager-Gesprächskreis
DESCRIPTION:Teenies unter sich \n\n\n\nNur für Vereinsmitglieder. \n\n\n\nTeenies zwischen 11 und 15 Jahren können sich hier miteinander vernetzen\, Erfahrungen austauschen und neue Freundschaften knüpfen. Wie in allen Gesprächskreisen entscheiden die Teilnehmerinnen und Teilnehmer über die Themen. Auch der Austausch über manch schwierige Situation in der Schule ist hier explizit erlaubt und erwünscht. \n\n\n\nDer Gesprächskreis findet online über Zoom statt und wird moderiert von Saskia Baisch-Zimmer\, Berufsschullehrerin und Fachbuchautorin. \n\n\n\nEs gelten unsere Teilnahmebedingungen:  Die Teilnahme am Gesprächskreis erfolgt mit eingeschalteter Kamera. Als Nutzername ist mindestens der Vorname anzugeben. Bild- oder Tonaufzeichnungen sind nicht erlaubt. \n\n\n\nGrundsätzlich sichern wir uns gegenseitige Vertraulichkeit und Verschwiegenheit zu: so werden Inhalte zu gesundheitlichen und persönlichen Daten außerhalb der Gruppe nicht weitergegeben bzw. nicht in Zusammenhang mit bestimmten Personen genannt. \n\n\n\nZur besseren Vernetzung dürfen die Teilnehmenden ihre Kontaktdaten (Handynummer) austauschen.  \n\n\n\nWer teilnehmen möchte\, kann sich ab 03.02.2025 über das Online-Anmeldeformular anmelden. Anmeldeschluss ist 16 Uhr am Tag des Gesprächskreises. Bitte zum Nachweis der Mitgliedschaft die Mitgliedsnummer angeben! Ohne korrekte Mitgliedsnummer ist eine Teilnahme leider nicht möglich. Den Zoom-Link versenden wir am Nachmittag vor dem Gesprächskreis. \n\n\n\n\n\n\n\nSolltet Ihr nach der Anmeldung unerwartet verhindert sein\, sagt Eure Teilnahme bitte ab! \n\n\n\nIch freue mich auf Euch! \n\n\n\nSaskia Baisch-Zimmer
URL:https://sandbox.dghk-hessen.de/event/teenager-gespraechskreis-5/
LOCATION:Online
CATEGORIES:Gesprächskreis
ORGANIZER;CN="Saskia Baisch-Zimmer":MAILTO:Baisch-Zimmer@dghk-hessen.de
END:VEVENT
BEGIN:VEVENT
DTSTART;TZID=Europe/Berlin:20250226T193000
DTEND;TZID=Europe/Berlin:20250226T213000
DTSTAMP:20260423T062732
CREATED:20250218T195015Z
LAST-MODIFIED:20250218T195015Z
UID:10000380-1740598200-1740605400@sandbox.dghk-hessen.de
SUMMARY:Elternstammtisch Wiesbaden - MTK - Rheingau
DESCRIPTION:Die Lokalgruppe Wiesbaden – MTK – Rheingau trifft sich online zu einem Elternstammtisch per Zoom. \n\n\n\nWir bitten Anmeldung an Wiesbaden@dghk-hessen.de
URL:https://sandbox.dghk-hessen.de/event/elternstammtisch-wiesbaden-mtk-rheingau/
LOCATION:Online
CATEGORIES:Gesprächskreis
ORGANIZER;CN="Lokalgruppe Wiesbaden - MTK - Rheingau":MAILTO:wiesbaden@dghk-hessen.de
END:VEVENT
END:VCALENDAR