BEGIN:VCALENDAR
VERSION:2.0
PRODID:-//DGhK RV Hessen e.V. - ECPv6.15.17.1//NONSGML v1.0//EN
CALSCALE:GREGORIAN
METHOD:PUBLISH
X-WR-CALNAME:DGhK RV Hessen e.V.
X-ORIGINAL-URL:https://sandbox.dghk-hessen.de
X-WR-CALDESC:Veranstaltungen für DGhK RV Hessen e.V.
REFRESH-INTERVAL;VALUE=DURATION:PT1H
X-Robots-Tag:noindex
X-PUBLISHED-TTL:PT1H
BEGIN:VTIMEZONE
TZID:Europe/Berlin
BEGIN:DAYLIGHT
TZOFFSETFROM:+0100
TZOFFSETTO:+0200
TZNAME:CEST
DTSTART:20230326T010000
END:DAYLIGHT
BEGIN:STANDARD
TZOFFSETFROM:+0200
TZOFFSETTO:+0100
TZNAME:CET
DTSTART:20231029T010000
END:STANDARD
BEGIN:DAYLIGHT
TZOFFSETFROM:+0100
TZOFFSETTO:+0200
TZNAME:CEST
DTSTART:20240331T010000
END:DAYLIGHT
BEGIN:STANDARD
TZOFFSETFROM:+0200
TZOFFSETTO:+0100
TZNAME:CET
DTSTART:20241027T010000
END:STANDARD
BEGIN:DAYLIGHT
TZOFFSETFROM:+0100
TZOFFSETTO:+0200
TZNAME:CEST
DTSTART:20250330T010000
END:DAYLIGHT
BEGIN:STANDARD
TZOFFSETFROM:+0200
TZOFFSETTO:+0100
TZNAME:CET
DTSTART:20251026T010000
END:STANDARD
END:VTIMEZONE
BEGIN:VEVENT
DTSTART;TZID=Europe/Berlin:20240910T200000
DTEND;TZID=Europe/Berlin:20240910T220000
DTSTAMP:20260423T152940
CREATED:20240903T213841Z
LAST-MODIFIED:20250128T195057Z
UID:10000305-1725998400-1726005600@sandbox.dghk-hessen.de
SUMMARY:Elternstammtisch Mittelhessen
DESCRIPTION:Veranstaltung zum Austausch für Eltern hochbegabter Kinder. Wir treffen uns wieder via Zoom. Anmeldung an Mittelhessen@dghk-hessen.de
URL:https://sandbox.dghk-hessen.de/event/elternstammtisch-mittelhessen/
LOCATION:Online
ORGANIZER;CN="Lokalgruppe Mittelhessen":MAILTO:mittelhessen@dghk-hessen.de
END:VEVENT
BEGIN:VEVENT
DTSTART;TZID=Europe/Berlin:20240913T190000
DTEND;TZID=Europe/Berlin:20240913T203000
DTSTAMP:20260423T152940
CREATED:20240909T161137Z
LAST-MODIFIED:20240909T161526Z
UID:10000300-1726254000-1726259400@sandbox.dghk-hessen.de
SUMMARY:Teenager-Gesprächskreis
DESCRIPTION:Teenies unter sich \n\n\n\nSaskia Baisch-Zimmer\, Berufsschullehrerin und Fachbuchautorin\, moderiert einen Online-Gesprächskreis für Teenager (ab Klasse 5) \n\n\n\nTeenies zwischen 11 und 15 Jahren können sich hier miteinander vernetzen\, Erfahrungen austauschen und neue Freundschaften knüpfen. Wie in allen Gesprächskreisen entscheiden die Teilnehmerinnen und Teilnehmer über die Themen. Auch der Austausch über manch schwierige Situation in der Schule ist hier explizit erlaubt und erwünscht. \n\n\n\nNur für Vereinsmitglieder. \n\n\n\nDer Gesprächskreis findet online über Zoom statt. \n\n\n\nEs gelten unsere Teilnahmebedingungen:  Die Teilnahme am Gesprächskreis erfolgt mit eingeschalteter Kamera. Als Nutzername ist mindestens der Vorname anzugeben. Bild- oder Tonaufzeichnungen sind nicht erlaubt. \n\n\n\nGrundsätzlich sichern wir uns gegenseitige Vertraulichkeit und Verschwiegenheit zu: so werden Inhalte zu gesundheitlichen und persönlichen Daten außerhalb der Gruppe nicht weitergegeben bzw. nicht in Zusammenhang mit bestimmten Personen genannt. \n\n\n\nZur besseren Vernetzung dürfen die Teilnehmenden ihre Kontaktdaten (Handynummer) austauschen.  \n\n\n\nWer teilnehmen möchte\, meldet sich bitte bis 16:00 Uhr am Tag des Gesprächskreises über das Anmeldeformular an. Bitte zur Überprüfung der Mitgliedschaft Vor- und Nachnamen angeben! Den Zoom-Link versenden wir am Nachmittag vor dem Gesprächskreis. \n\n\n\n\n\n\n\nSolltet Ihr nach der Anmeldung unerwartet verhindert sein\, sagt Eure Teilnahme bitte ab! \n\n\n\nIch freue mich auf Euch!
URL:https://sandbox.dghk-hessen.de/event/teenager-gespraechskreis/
LOCATION:Online
ORGANIZER;CN="Saskia Baisch-Zimmer":MAILTO:Baisch-Zimmer@dghk-hessen.de
END:VEVENT
BEGIN:VEVENT
DTSTART;TZID=Europe/Berlin:20240917T193000
DTEND;TZID=Europe/Berlin:20240917T213000
DTSTAMP:20260423T152940
CREATED:20240709T082809Z
LAST-MODIFIED:20240717T192458Z
UID:10000297-1726601400-1726608600@sandbox.dghk-hessen.de
SUMMARY:Elternstammtisch Wiesbaden - MTK - Rheingau
DESCRIPTION:Die Lokalgruppe Wiesbaden – MTK – Rheingau trifft sich online zu einem Elternstammtisch per Zoom. \n\n\n\nNähere Informationen unter Lokale Gruppe Wiesbaden. \n\n\n\nWie bitten um Anmeldung an wiesbaden@dghk-hessen.de
URL:https://sandbox.dghk-hessen.de/event/elternstammtisch-wiesbaden-mtk-rheingau-2/
LOCATION:Online
ORGANIZER;CN="Lokalgruppe Wiesbaden - MTK - Rheingau":MAILTO:wiesbaden@dghk-hessen.de
END:VEVENT
BEGIN:VEVENT
DTSTART;TZID=Europe/Berlin:20240919T200000
DTEND;TZID=Europe/Berlin:20240919T213000
DTSTAMP:20260423T152940
CREATED:20240710T175203Z
LAST-MODIFIED:20250415T111606Z
UID:10000298-1726776000-1726781400@sandbox.dghk-hessen.de
SUMMARY:Gesprächskreis für Teenagereltern
DESCRIPTION:Online-Gesprächskreis ausschließlich für Teenagereltern\, deren Kinder zwischen 12 und 15 Jahren bzw. in den Klassenstufen 6 bis 10 sind.  \n\n\n\nThema dieses Mal: Soziale und emotionale Unterstützung für unsere Teenager – was funktioniert wirklich? \n\n\n\nAnmeldungen bitte an Skupsch@dghk-hessen.de
URL:https://sandbox.dghk-hessen.de/event/gespraechskreis-fuer-teenagereltern/
LOCATION:Online
ORGANIZER;CN="Christine Skupsch":MAILTO:Skupsch@dghk-hessen.de
END:VEVENT
END:VCALENDAR