BEGIN:VCALENDAR
VERSION:2.0
PRODID:-//DGhK RV Hessen e.V. - ECPv6.15.17.1//NONSGML v1.0//EN
CALSCALE:GREGORIAN
METHOD:PUBLISH
X-ORIGINAL-URL:https://sandbox.dghk-hessen.de
X-WR-CALDESC:Veranstaltungen für DGhK RV Hessen e.V.
REFRESH-INTERVAL;VALUE=DURATION:PT1H
X-Robots-Tag:noindex
X-PUBLISHED-TTL:PT1H
BEGIN:VTIMEZONE
TZID:Europe/Berlin
BEGIN:DAYLIGHT
TZOFFSETFROM:+0100
TZOFFSETTO:+0200
TZNAME:CEST
DTSTART:20240331T010000
END:DAYLIGHT
BEGIN:STANDARD
TZOFFSETFROM:+0200
TZOFFSETTO:+0100
TZNAME:CET
DTSTART:20241027T010000
END:STANDARD
BEGIN:DAYLIGHT
TZOFFSETFROM:+0100
TZOFFSETTO:+0200
TZNAME:CEST
DTSTART:20250330T010000
END:DAYLIGHT
BEGIN:STANDARD
TZOFFSETFROM:+0200
TZOFFSETTO:+0100
TZNAME:CET
DTSTART:20251026T010000
END:STANDARD
BEGIN:DAYLIGHT
TZOFFSETFROM:+0100
TZOFFSETTO:+0200
TZNAME:CEST
DTSTART:20260329T010000
END:DAYLIGHT
BEGIN:STANDARD
TZOFFSETFROM:+0200
TZOFFSETTO:+0100
TZNAME:CET
DTSTART:20261025T010000
END:STANDARD
BEGIN:DAYLIGHT
TZOFFSETFROM:+0100
TZOFFSETTO:+0200
TZNAME:CEST
DTSTART:20270328T010000
END:DAYLIGHT
BEGIN:STANDARD
TZOFFSETFROM:+0200
TZOFFSETTO:+0100
TZNAME:CET
DTSTART:20271031T010000
END:STANDARD
END:VTIMEZONE
BEGIN:VEVENT
DTSTART;TZID=Europe/Berlin:20250529T150000
DTEND;TZID=Europe/Berlin:20250601T130000
DTSTAMP:20260421T100559
CREATED:20250214T180159Z
LAST-MODIFIED:20250305T192715Z
UID:10000375-1748530800-1748782800@sandbox.dghk-hessen.de
SUMMARY:Das lange DGhK Hessen-Familienwochenende 2025
DESCRIPTION:Wir laden Familien mit Kindern im Alter von 6  bis 14 Jahren zu unserem traditionellen Familienwochenende in Ernsthofen ein! \n\n\n\n\n\n\n\nAm Himmelfahrtswochenende haben wir für unser langes DGhK Hessen-Familienwochenende\, oder kurz FaWo\, wieder das Kreisjugendheim Ernsthofen reserviert: Es liegt direkt am Waldrand über dem Modautal und bietet ein großes Freigelände für Spiel\, Spaß und Bewegung. \n\n\n\nIn diesem besonderen Rahmen können sich Familien mit hochbegabten Kindern treffen und gemeinsam einfach eine gute Zeit haben. Unser FaWo-Team der DGhK Hessen plant dafür mit unserem engagierten Betreuungsteam besondere Workshops für die Eltern und jede Menge sinnvollen Spaß und Aktivitäten für die Kinder – es gibt aber auch genügend Zeit und Freiraum\, um sich kennenzulernen und zu Themen auszutauschen\, für die manchmal im Alltag nicht der richtige Platz ist. \n\n\n\nIn diesem Jahr stehen uns im Kreisjugendheim auch wieder – wie aus den Vorjahren gewohnt – die Küche im Betreuerhaus und die frisch renovierten Duschen im Haupthaus zur Verfügung. \n\n\n\n\n\nNeugierig geworden? Die Berichte über die vergangenen Familienwochenenden geben einen guten Eindruck davon\, was Eltern und Kinder erwartet. \n\n\n\nTeilnehmen können Familien mit Kindern im Alter von 6 bis 14 Jahren. Jüngere oder ältere Geschwisterkinder können selbstverständlich mitkommen\, werden aber während des gesamten Aufenthaltes von den Eltern betreut. \n\n\n\nTeilnahmegebühr für Unterbringung\, Verpflegung und Programm: \n\n\n\n\n\nMitglied der DGhKNicht-MitgliedAlleErwachsener125 EuroErwachsener155 EuroKind unter 6Kind95 EuroKind115 Eurofrei\n\n\n\nAnmeldungen sind ab dem 1. März 2025 hier auf der Seite möglich. Pro Person bitte das zutreffende Ticket auswählen. Anmeldeschluss ist der 7. Mai 2025. \n\n\n\nBitte beachtet\, dass Eure Anmeldung erst abgeschlossen ist\, wenn Ihr die Buchungsbestätigung in einer separaten E-Mail vom FaWo-Team erhalten habt. Erst danach ziehen wir die Teilnahmegebühr per Lastschrift ein. \n\n\n\nAktuell ist die Veranstaltung ausgebucht. Eine Eintragung auf die Warteliste ist begrenzt möglich. Bitte pro Person das zutreffende Ticket auswählen.  \n\n\n\n\n\n\n\n\n\n\n\n\n\n\n\n\n\n\n\n\n\n\n\n\n\n\n\n\n\n\n\n\n\n\n\n\n\nSolltet Ihr nach der Anmeldung  unerwartet verhindert sein\, sagt Eure Teilnahme bitte per E-Mail an  familienwochenende@dghk-hessen.de ab. So können wir die begrenzten Plätze weitergeben. \n\n\n\nWeitere Informationen zum Aufenthalt und zu Details wie Packliste\, Treffpunkt\, Ablauf erhaltet Ihr nach der Teilnahmebestätigung rechtzeitig vor dem FaWo. \n\n\n\nBei Fragen wendet Euch bitte an das FaWo-Team unter der E-Mail-Adresse familienwochenende@dghk-hessen.de \n\n\n\nWir freuen uns auf ein tolles Wochenende! \n\n\n\nEure DGhk Hessen
URL:https://sandbox.dghk-hessen.de/event/das-lange-dghk-hessen-familienwochenende-2025/
LOCATION:Kreisjugendheim Ernsthofen\, Am Stutzenberg 1\, Modautal\, Hessen\, 64397
CATEGORIES:Freizeit
ATTACH;FMTTYPE=image/jpeg:https://sandbox.dghk-hessen.de/wp-content/uploads/2024/10/AdobeStock_56653760-scaled.jpeg
ORGANIZER;CN="Team Familienwochenende":MAILTO:familienwochenende@dghk-hessen.de
END:VEVENT
BEGIN:VEVENT
DTSTART;TZID=Europe/Berlin:20260514T150000
DTEND;TZID=Europe/Berlin:20260517T130000
DTSTAMP:20260421T100559
CREATED:20251227T174146Z
LAST-MODIFIED:20260228T115248Z
UID:10000500-1778770800-1779022800@sandbox.dghk-hessen.de
SUMMARY:Langes DGhk Hessen-Familienwochenende Himmelfahrt 2026
DESCRIPTION:Wir laden Familien mit Kindern zu unserem traditionellen Familienwochenende in Ernsthofen ein!\n\n\n\nAdobe Stock | #508303469\n\n\n\nNach der großen Nachfrage im vergangenen Jahr freuen wir uns\, im Jahr 2026 sogar zwei Familienwochenenden (FaWo) anbieten zu können. Hier findet Ihr alle Informationen zum FaWo an Himmelfahrt. \n\n\n\n\n\n\n\n👉 Hinweis: Ihr möchtet lieber am zweiten Termin teilnehmen? Hier geht’s zum FaWo an Fronleichnam (4.–7. Juni). \n\n\n\n\n\n\n\nFür unser langes DGhK Hessen-Familienwochenende haben wieder das Kreisjugendheim Ernsthofen reserviert: Es liegt direkt am Waldrand über dem Modautal und bietet ein großes Freigelände für Spiel\, Spaß und Bewegung. \n\n\n\n\n\nIn diesem besonderen Rahmen können sich Familien mit hochbegabten Kindern treffen und gemeinsam einfach eine gute Zeit haben. Unser FaWo-Team der DGhK Hessen plant dafür besondere Workshops für die Eltern und mit unserem engagierten Betreuungsteam jede Menge sinnvollen Spaß und Aktivitäten für die Kinder – es gibt aber auch genügend Zeit und Freiraum\, um sich kennenzulernen und zu Themen auszutauschen\, für die manchmal im Alltag nicht der richtige Platz ist. \n\n\n\nNeugierig geworden? Die Berichte über die vergangenen Familienwochenenden geben einen guten Eindruck davon\, was Eltern und Kinder erwartet. \n\n\n\n\n\n\n\n👨‍👩‍👧‍👦 Programm für Kinder & Erwachsene\n\n\n\nAn diesem Wochenende erwartet Euch ein weitgehend identisches Rahmenprogramm wie am Fronleichnamswochenende: \n\n\n\n\n👥 Programm für Erwachsene\n\n\n\n🎒 Programm für Kinder von 6–14 Jahren mit unseren Teamern\n\n\n\n🆕 Neu: Programm für Jugendliche (14–16 Jahre)\n\n\n\n\nErstmals bieten wir ein eigenes\, offenes und mitgestaltbares Programm für Jugendliche an. Die Jugendlichen können sich auf vier Arten einbringen: \n\n\n\n\nEigenes Jugendlichen-Programm – selbst mitgestaltet\, begleitet durch erwachsene Vereinsmitglieder\n\n\n\nBeitrag zum Kinderprogramm – z. B. Spiele\, Aktionen\, Workshops\n\n\n\nBeitrag zum Erwachsenenprogramm – ein eigener Programmpunkt\n\n\n\nUnterstützung als Helfer – Mithilfe bei Teamer- oder Orga-Aufgaben\n\n\n\n\nWir freuen uns über jede Form der Beteiligung. Das neue Jugendlichen-Programm lebt davon\, dass Jugendliche Verantwortung übernehmen und eigene Ideen einbringen. \n\n\n\n\n\n\n\n🤝 Unterstützung durch die Familien\n\n\n\nDamit das FaWo gelingt\, freuen wir uns über Unterstützung aller – im Vorfeld\, vor Ort oder mit einem Programmpunkt (Beispiele aus den letzten Jahren: Hilfe zur Selbsthilfe bei Hochsensibilität\, Einführung in die Spieltheorie\, Gesprächsrunde für Väter). \n\n\n\n\n\n\n\n💶 Kosten\n\n\n\n\n\nKategorieMitgliederNicht-MitgliederErwachsene155 €185 €Kinder ab 6 Jahre120 €140 €Kinder 3–5 Jahre60 €70 €Kinder unter  3 Jahre0 €0 €\n\n\n\n📝 Vormerkung für das Himmelfahrts-FaWo\n\n\n\nDie Vormerkung ist möglich vom: \n\n\n\n\n📌 17. Januar\, 9:00 Uhr bis\n\n\n\n📌 15. Februar\n\n\n\n\n⚠️ Hinweis zur Fairness: Wir möchten möglichst vielen Familien die Teilnahme ermöglichen. Deshalb bitten wir Euch\, Euch nur für einen der beiden Termine vorzumerken. Mehrfache Vormerkungen können wir leider nicht berücksichtigen. \n\n\n\n👉 Wichtig: Die Buchung hier auf der Website ist nur eine Vormerkung. Eine verbindliche Teilnahme ist erst nach der Teilnahmebestätigung durch das FaWo-Team gesichert. Diese erfolgt nicht vor Ende Februar. \n\n\n\nAktuell sind keine Vormerkungsplätze mehr verfügbar. Ihr könnt Euch auf der Warteliste eintragen. Sollten Nachrückerplätze frei werden\, werdet Ihr vom FaWo-Team kontaktiert. \n\n\n\n🎟️ Hier vormerken:\n\n\n\n\n\n\n\n\n\n\n\n\n\n\n\n\n\n\n\n\n\n\n\n\n\n\n\n\n\n\n\n\n\n\n\n\n\n\n\n\n\n\n\n\n\n\n\n\n\nSolltet Ihr nach der Buchung unerwartet verhindert sein\, sagt Eure Teilnahme bitte per E-Mail an familienwochenende@dghk-hessen.de ab. So können wir die begrenzten Plätze weitergeben. \n\n\n\nWeitere Informationen zum Aufenthalt und zu Details wie Packliste\, Treffpunkt\, Ablauf erhaltet Ihr nach der Teilnahmebestätigung rechtzeitig vor dem FaWo. \n\n\n\nWenn Ihr Euch beim FaWo beteiligen möchtet\, das Orga-Team unterstützen wollt oder Fragen habt\, wendet Euch gerne an das FaWo-Team unter der E-Mail-Adresse familienwochenende@dghk-hessen.de \n\n\n\nWir freuen uns auf ein tolles Wochenende! \n\n\n\nEure DGhK Hessen
URL:https://sandbox.dghk-hessen.de/event/langes-dghk-hessen-familienwochenende-himmelfahrt-2026/
LOCATION:Kreisjugendheim Ernsthofen\, Am Stutzenberg 1\, Modautal\, Hessen\, 64397
CATEGORIES:Freizeit
ATTACH;FMTTYPE=image/jpeg:https://sandbox.dghk-hessen.de/wp-content/uploads/2025/12/AdobeStock_508303469_Himmelfahrt-scaled.jpeg
ORGANIZER;CN="Team Familienwochenende":MAILTO:familienwochenende@dghk-hessen.de
END:VEVENT
BEGIN:VEVENT
DTSTART;TZID=Europe/Berlin:20260604T150000
DTEND;TZID=Europe/Berlin:20260607T130000
DTSTAMP:20260421T100559
CREATED:20251229T100351Z
LAST-MODIFIED:20260118T172055Z
UID:10000501-1780585200-1780837200@sandbox.dghk-hessen.de
SUMMARY:Langes DGhk Hessen-Familienwochenende Fronleichnam 2026
DESCRIPTION:Wir laden Familien mit Kindern zu unserem traditionellen Familienwochenende in Ernsthofen ein!\n\n\n\nAdobe Stock | #508303469\n\n\n\nNach der großen Nachfrage im vergangenen Jahr freuen wir uns\, im Jahr 2026 sogar zwei Familienwochenenden (FaWo) anbieten zu können. Hier findet Ihr alle Informationen zum FaWo an Fronleichnam. \n\n\n\n\n\n\n\n👉 Hinweis: Ihr möchtet lieber am ersten Termin teilnehmen? Hier geht’s zum FaWo an Himmelfahrt (14.–17. Mai). \n\n\n\n\n\n\n\nFür unser langes DGhK Hessen-Familienwochenende haben wieder das Kreisjugendheim Ernsthofen reserviert: Es liegt direkt am Waldrand über dem Modautal und bietet ein großes Freigelände für Spiel\, Spaß und Bewegung. \n\n\n\n(Hinweis: An Fronleichnam stehen uns wegen einer kleinen Parallelgruppe nicht alle Betten zur Verfügung.) \n\n\n\n\n\nIn diesem besonderen Rahmen können sich Familien mit hochbegabten Kindern treffen und gemeinsam einfach eine gute Zeit haben. Unser FaWo-Team der DGhK Hessen plant dafür besondere Workshops für die Eltern und mit unserem engagierten Betreuungsteam jede Menge sinnvollen Spaß und Aktivitäten für die Kinder – es gibt aber auch genügend Zeit und Freiraum\, um sich kennenzulernen und zu Themen auszutauschen\, für die manchmal im Alltag nicht der richtige Platz ist. \n\n\n\nNeugierig geworden? Die Berichte über die vergangenen Familienwochenenden geben einen guten Eindruck davon\, was Eltern und Kinder erwartet. \n\n\n\n\n\n\n\n👨‍👩‍👧‍👦 Programm für Kinder & Erwachsene\n\n\n\nAn diesem Wochenende erwartet Euch ein weitgehend identisches Rahmenprogramm wie am Himmelfahrtswochenende: \n\n\n\n\n👥 Programm für Erwachsene\n\n\n\n🎒 Programm für Kinder von 6–14 Jahren mit unseren Teamern\n\n\n\n🆕 Neu: Programm für Jugendliche (14–16 Jahre)\n\n\n\n\nErstmals bieten wir ein eigenes\, offenes und mitgestaltbares Programm für Jugendliche an. Die Jugendlichen können sich auf vier Arten einbringen: \n\n\n\n\nEigenes Jugendlichen-Programm – selbst mitgestaltet\, begleitet durch erwachsene Vereinsmitglieder\n\n\n\nBeitrag zum Kinderprogramm – z. B. Spiele\, Aktionen\, Workshops\n\n\n\nBeitrag zum Erwachsenenprogramm – ein eigener Programmpunkt\n\n\n\nUnterstützung als Helfer – Mithilfe bei Teamer- oder Orga-Aufgaben\n\n\n\n\nWir freuen uns über jede Form der Beteiligung. Das neue Jugendlichen-Programm lebt davon\, dass Jugendliche Verantwortung übernehmen und eigene Ideen einbringen. \n\n\n\n\n\n\n\n🤝 Unterstützung durch die Familien\n\n\n\nDamit das FaWo gelingt\, freuen wir uns über Unterstützung aller – im Vorfeld\, vor Ort oder mit einem Programmpunkt (Beispiele aus den letzten Jahren: Hilfe zur Selbsthilfe bei Hochsensibilität\, Einführung in die Spieltheorie\, Gesprächsrunde für Väter). \n\n\n\n\n\n\n\n💶 Kosten\n\n\n\n\n\nKategorieMitgliederNicht-MitgliederErwachsene155 €185 €Kinder ab 6 Jahre120 €140 €Kinder 3–5 Jahre60 €70 €Kinder unter 3 Jahre0 €0 €\n\n\n\n📝 Vormerkung für das Fronleichnams-FaWo\n\n\n\nDie Vormerkung ist möglich vom: \n\n\n\n\n📌 17. Januar\, 9:00 Uhr bis\n\n\n\n📌 15. Februar\n\n\n\n\n⚠️ Hinweis zur Fairness: Wir möchten möglichst vielen Familien die Teilnahme ermöglichen. Deshalb bitten wir Euch\, Euch nur für einen der beiden Termine vorzumerken. Mehrfache Vormerkungen können wir leider nicht berücksichtigen. \n\n\n\n👉 Wichtig: Die Buchung hier auf der Website ist nur eine Vormerkung. Eine verbindliche Teilnahme ist erst nach der Teilnahmebestätigung durch das FaWo-Team gesichert. Diese erfolgt nicht vor Ende Februar. \n\n\n\nAktuell sind keine Vormerkungsplätze mehr verfügbar. Ihr könnt Euch auf der Warteliste eintragen. Sollten Nachrückerplätze frei werden\, werdet Ihr vom FaWo-Team kontaktiert. \n\n\n\n🎟️ Hier vormerken:\n\n\n\n\n\n\n\n\n\n\n\n\n\n\n\n\n\n\n\n\n\n\n\n\n\n\n\n\n\n\n\n\n\n\n\n\n\n\n\n\n\n\n\n\n\n\n\n\n\nSolltet Ihr nach der Buchung unerwartet verhindert sein\, sagt Eure Teilnahme bitte per E-Mail an familienwochenende@dghk-hessen.de ab. So können wir die begrenzten Plätze weitergeben. \n\n\n\nWeitere Informationen zum Aufenthalt und zu Details wie Packliste\, Treffpunkt\, Ablauf erhaltet Ihr nach der Teilnahmebestätigung rechtzeitig vor dem FaWo. \n\n\n\nWenn Ihr Euch beim FaWo beteiligen möchtet\, das Orga-Team unterstützen wollt oder Fragen habt\, wendet Euch gerne an das FaWo-Team unter der E-Mail-Adresse familienwochenende@dghk-hessen.de \n\n\n\nWir freuen uns auf ein tolles Wochenende! \n\n\n\nEure DGhK Hessen
URL:https://sandbox.dghk-hessen.de/event/langes-dghk-hessen-familienwochenende-fronleichnam-2026/
LOCATION:Kreisjugendheim Ernsthofen\, Am Stutzenberg 1\, Modautal\, Hessen\, 64397
CATEGORIES:Freizeit
ATTACH;FMTTYPE=image/jpeg:https://sandbox.dghk-hessen.de/wp-content/uploads/2025/12/AdobeStock_508303469_Fronleichnam-scaled.jpeg
ORGANIZER;CN="Team Familienwochenende":MAILTO:familienwochenende@dghk-hessen.de
END:VEVENT
END:VCALENDAR