BEGIN:VCALENDAR
VERSION:2.0
PRODID:-//DGhK RV Hessen e.V. - ECPv6.15.17.1//NONSGML v1.0//EN
CALSCALE:GREGORIAN
METHOD:PUBLISH
X-WR-CALNAME:DGhK RV Hessen e.V.
X-ORIGINAL-URL:https://sandbox.dghk-hessen.de
X-WR-CALDESC:Veranstaltungen für DGhK RV Hessen e.V.
REFRESH-INTERVAL;VALUE=DURATION:PT1H
X-Robots-Tag:noindex
X-PUBLISHED-TTL:PT1H
BEGIN:VTIMEZONE
TZID:Europe/Berlin
BEGIN:DAYLIGHT
TZOFFSETFROM:+0100
TZOFFSETTO:+0200
TZNAME:CEST
DTSTART:20240331T010000
END:DAYLIGHT
BEGIN:STANDARD
TZOFFSETFROM:+0200
TZOFFSETTO:+0100
TZNAME:CET
DTSTART:20241027T010000
END:STANDARD
BEGIN:DAYLIGHT
TZOFFSETFROM:+0100
TZOFFSETTO:+0200
TZNAME:CEST
DTSTART:20250330T010000
END:DAYLIGHT
BEGIN:STANDARD
TZOFFSETFROM:+0200
TZOFFSETTO:+0100
TZNAME:CET
DTSTART:20251026T010000
END:STANDARD
BEGIN:DAYLIGHT
TZOFFSETFROM:+0100
TZOFFSETTO:+0200
TZNAME:CEST
DTSTART:20260329T010000
END:DAYLIGHT
BEGIN:STANDARD
TZOFFSETFROM:+0200
TZOFFSETTO:+0100
TZNAME:CET
DTSTART:20261025T010000
END:STANDARD
END:VTIMEZONE
BEGIN:VEVENT
DTSTART;TZID=Europe/Berlin:20250305T200000
DTEND;TZID=Europe/Berlin:20250305T220000
DTSTAMP:20260421T034627
CREATED:20250121T222247Z
LAST-MODIFIED:20250219T201834Z
UID:10000362-1741204800-1741212000@sandbox.dghk-hessen.de
SUMMARY:Elternstammtisch Mittelhessen
DESCRIPTION:Für Eltern\, Großeltern\, Lehrkräfte und Erzieherinnen und Erzieher hochbegabter oder vermutet hochbegabter Kinder und Jugendlicher \n\n\n\nAn diesem Abend dürfen wir Friederike Schneiders zum Thema „Lernen lernen“ begrüßen. Sie wird einen kurzen Vortrag halten\, im Anschluss tauschen wir uns aus. \n\n\n\nAuch Nicht-Mitglieder sind herzlich willkommen! \n\n\n\nWir treffen uns online via Zoom. Wer teilnehmen möchte\, meldet sich bitte über das Anmeldeformular an.Anmeldungen sind bis 18:00 Uhr am Vortag des Elternstammtisch möglich.Den Zoom-Link versenden wir erst zeitnah vor dem Elternstammtisch.
URL:https://sandbox.dghk-hessen.de/event/elternstammtisch-mittelhessen-4/
LOCATION:Online
CATEGORIES:Gesprächskreis
ORGANIZER;CN="Lokalgruppe Mittelhessen":MAILTO:mittelhessen@dghk-hessen.de
END:VEVENT
BEGIN:VEVENT
DTSTART;TZID=Europe/Berlin:20250313T193000
DTEND;TZID=Europe/Berlin:20250313T213000
DTSTAMP:20260421T034627
CREATED:20250214T092534Z
LAST-MODIFIED:20250216T203257Z
UID:10000374-1741894200-1741901400@sandbox.dghk-hessen.de
SUMMARY:Gesprächskreis Frankfurt
DESCRIPTION:Für Eltern\, Großeltern\, Lehrkräfte und Erzieherinnen und Erzieher hochbegabter oder vermutet hochbegabter Kinder und Jugendlicher \n\n\n\nAuch Nicht-Mitglieder sind herzlich willkommen! \n\n\n\nWir treffen uns online via Zoom. Wer teilnehmen möchte\, meldet sich bitte über das Anmeldeformular an.Anmeldungen sind bis 16:00 Uhr am Tag des Gesprächskreises möglich.Den Zoom-Link versenden wir erst zeitnah vor dem Gesprächskreis. \n\n\n\n\n\n\n\nSolltet Ihr nach der Anmeldung unerwartet verhindert sein\, sagt Eure Teilnahme bitte per Mail an Frankfurt@dghk-hessen.de ab. \n\n\n\nWir freuen uns auf ein lebhaftes Treffen! \n\n\n\nSimone Schlosske & Anja Thiemann
URL:https://sandbox.dghk-hessen.de/event/gespraechskreis-frankfurt-7/
LOCATION:Online
CATEGORIES:Gesprächskreis
ATTACH;FMTTYPE=image/jpeg:https://sandbox.dghk-hessen.de/wp-content/uploads/2025/02/Frankfurt-e1739737897471.jpg
ORGANIZER;CN="Gespr%C3%A4chskreis Frankfurt und Umland":MAILTO:Frankfurt@dghk-hessen.de
END:VEVENT
BEGIN:VEVENT
DTSTART;TZID=Europe/Berlin:20250315T150000
DTEND;TZID=Europe/Berlin:20250315T180000
DTSTAMP:20260421T034627
CREATED:20250218T230310Z
LAST-MODIFIED:20250226T192641Z
UID:10000378-1742050800-1742061600@sandbox.dghk-hessen.de
SUMMARY:Spielenachmittag Main-Kinzig
DESCRIPTION:Board games. Home hobby leisure with children. Family fun\, digital detox\, mental health Quarantine games\, gifts for family\, play background\n\n\n\nWir freuen uns\, einen Spielenachmittag für Familien in der Region Main-Kinzig anbieten zu können! Von 0 bis 99 Jahren sind alle willkommen! \n\n\n\nAn dem Nachmittag wollen wir uns neben tollen Spielen auch mit dem Thema „Was man mit Papier machen kann“ beschäftigen. Dabei geht es nicht um „normale“ Sachen wie Malen und Schreiben\, sondern was man sonst noch alles mit Papier machen kann. Bitte bringt hierzu eine Kinderschere/Schere und Klebestift mit. \n\n\n\nUnser zweiter Spielenachmittag findet im Gemeindehaus der Evangelischen Kirche\, Paul-Gerhardt-Str.2  in Gründau-Lieblos  statt. \n\n\n\nNeben guter Laune freuen wir uns\, wenn jede Familie 1-2 Spiele und eine Kleinigkeit fürs Fingerfood-Büfett beisteuert. \n\n\n\nHinweis: Die Aufsichtspflicht liegt während der gesamten Veranstaltung bei den Eltern. \n\n\n\nTickets können vom 01.03.-12.03.2025 (15:00 Uhr) nach Verfügbarkeit erworben werden. Zum Nachweis der Mitgliedschaft ist die Mitgliedsnummer anzugeben. Der Verkauf der kostenfreien Mitglied-Tickets erfolgt vorbehaltlich einer Prüfung der Mitgliedschaft.  \n\n\n\n\n\n\n\n\n\n\n\n\n\n\n\n\n\nIch freue mich auf einen abwechslungsreichen und fröhlichen Nachmittag! \n\n\n\nDesiree Koslowski
URL:https://sandbox.dghk-hessen.de/event/spielenachmittag-main-kinzig-2/
LOCATION:Evangelische Kirchengemeinde Auf dem Berg\, Paul-Gerhardt-Str. 2\, 63584 Gründau
CATEGORIES:Spieltreff
ATTACH;FMTTYPE=image/jpeg:https://sandbox.dghk-hessen.de/wp-content/uploads/2025/02/AdobeStock_462648606-scaled.jpeg
ORGANIZER;CN="Lokalgruppe Main-Kinzig":MAILTO:main-kinzig@dghk-hessen.de
END:VEVENT
BEGIN:VEVENT
DTSTART;TZID=Europe/Berlin:20250327T183000
DTEND;TZID=Europe/Berlin:20250327T200000
DTSTAMP:20260421T034627
CREATED:20250316T022852Z
LAST-MODIFIED:20250320T203207Z
UID:10000395-1743100200-1743105600@sandbox.dghk-hessen.de
SUMMARY:Gesprächskreis Osthessen
DESCRIPTION:Adobe Stock | #350314373\n\n\n\nFür Eltern\, Großeltern\, Lehrkräfte und Erzieherinnen und Erzieherhochbegabter oder vermutet hochbegabter Kinder und Jugendlicher \n\n\n\nAuch Nicht-Mitglieder sind herzlich willkommen! \n\n\n\nWir treffen uns online via Zoom. Wer teilnehmen möchte\, meldet sich bitte über das Anmeldeformular an.Anmeldungen sind bis 16:00 Uhr am Tag des Gesprächskreises möglich.Den Zoom-Link versenden wir erst zeitnah vor dem Gesprächskreis. \n\n\n\n\n\n\n\n\n \n\n\n\n\nSolltet Ihr nach der Anmeldung unerwartet verhindert sein\, sagt Eure Teilnahme bitte per Mail anosthessen@dghk-hessen.de ab. \n\n\n\nIch freue mich auf ein lebhaftes Treffen! \n\n\n\nMichaela Uffelmann
URL:https://sandbox.dghk-hessen.de/event/gespraechskreis-osthessen-4/
LOCATION:Online
CATEGORIES:Gesprächskreis
ATTACH;FMTTYPE=image/jpeg:https://sandbox.dghk-hessen.de/wp-content/uploads/2025/03/AdobeStock_350314373-scaled.jpeg
ORGANIZER;CN="Lokalgruppe Osthessen":MAILTO:osthessen@dghk-hessen.de
END:VEVENT
END:VCALENDAR