BEGIN:VCALENDAR
VERSION:2.0
PRODID:-//DGhK RV Hessen e.V. - ECPv6.15.17.1//NONSGML v1.0//EN
CALSCALE:GREGORIAN
METHOD:PUBLISH
X-ORIGINAL-URL:https://sandbox.dghk-hessen.de
X-WR-CALDESC:Veranstaltungen für DGhK RV Hessen e.V.
REFRESH-INTERVAL;VALUE=DURATION:PT1H
X-Robots-Tag:noindex
X-PUBLISHED-TTL:PT1H
BEGIN:VTIMEZONE
TZID:Europe/Berlin
BEGIN:DAYLIGHT
TZOFFSETFROM:+0100
TZOFFSETTO:+0200
TZNAME:CEST
DTSTART:20240331T010000
END:DAYLIGHT
BEGIN:STANDARD
TZOFFSETFROM:+0200
TZOFFSETTO:+0100
TZNAME:CET
DTSTART:20241027T010000
END:STANDARD
BEGIN:DAYLIGHT
TZOFFSETFROM:+0100
TZOFFSETTO:+0200
TZNAME:CEST
DTSTART:20250330T010000
END:DAYLIGHT
BEGIN:STANDARD
TZOFFSETFROM:+0200
TZOFFSETTO:+0100
TZNAME:CET
DTSTART:20251026T010000
END:STANDARD
BEGIN:DAYLIGHT
TZOFFSETFROM:+0100
TZOFFSETTO:+0200
TZNAME:CEST
DTSTART:20260329T010000
END:DAYLIGHT
BEGIN:STANDARD
TZOFFSETFROM:+0200
TZOFFSETTO:+0100
TZNAME:CET
DTSTART:20261025T010000
END:STANDARD
END:VTIMEZONE
BEGIN:VEVENT
DTSTART;TZID=Europe/Berlin:20250116T193000
DTEND;TZID=Europe/Berlin:20250116T213000
DTSTAMP:20260421T072119
CREATED:20241227T113122Z
LAST-MODIFIED:20241228T105538Z
UID:10000357-1737055800-1737063000@sandbox.dghk-hessen.de
SUMMARY:Gesprächskreis Frankfurt
DESCRIPTION:Für Eltern\, Großeltern\, Lehrkräfte und Erzieherinnen und Erzieher hochbegabter oder vermutet hochbegabter Kinder und Jugendlicher \n\n\n\nAuch Nicht-Mitglieder sind herzlich willkommen! \n\n\n\nWir treffen uns online via Zoom. Wer teilnehmen möchte\, meldet sich bitte über das Anmeldeformular an.Anmeldungen sind bis 16:00 Uhr am Tag des Gesprächskreises möglich.Den Zoom-Link versenden wir erst zeitnah vor dem Gesprächskreis. \n\n\n\n\n\n\n\nSolltet Ihr nach der Anmeldung unerwartet verhindert sein\, sagt Eure Teilnahme bitte per Mail an Frankfurt@dghk-hessen.de ab. \n\n\n\nWir freuen uns auf ein lebhaftes Treffen! \n\n\n\nSimone Schlosske & Anja Thiemann
URL:https://sandbox.dghk-hessen.de/event/gespraechskreis-frankfurt-5/
LOCATION:Online
CATEGORIES:Gesprächskreis
ORGANIZER;CN="Gespr%C3%A4chskreis Frankfurt und Umland":MAILTO:Frankfurt@dghk-hessen.de
END:VEVENT
BEGIN:VEVENT
DTSTART;TZID=Europe/Berlin:20250118T150000
DTEND;TZID=Europe/Berlin:20250118T180000
DTSTAMP:20260421T072119
CREATED:20241203T162448Z
LAST-MODIFIED:20250115T175034Z
UID:10000337-1737212400-1737223200@sandbox.dghk-hessen.de
SUMMARY:Spielenachmittag Main-Kinzig
DESCRIPTION:Wir freuen uns\, einen Spielenachmittag für Familien in der Region Main-Kinzig anbieten zu können! Von 0 bis 99 Jahren sind alle willkommen! \n\n\n\nUnser erster Spielenachmittag findet im „Kleinen Anton“\, Niedergründauer Str. 17a\, 63548 Gündau statt. \n\n\n\nNeben guter Laune bringt bitte jede teilnehmende Familie 1-2 Spiele für die Spieltische mit. Außerdem würden wir uns freuen\, wenn alle eine Kleinigkeit fürs Büfett beisteuern. \n\n\n\nHinweis: Die Aufsichtspflicht liegt während der gesamten Veranstaltung bei den Eltern. \n\n\n\nWer teilnehmen möchte\, erwirbt bitte pro Familie ein Ticket (ab 01.01.2025). Der Verkauf von Mitglied-Tickets erfolgt vorbehaltlich einer Prüfung der Mitgliedschaft. Verkaufsschluss ist der 09.01.2025. \n\n\n\n\n\n\n\n\n\n\n\n\n\n\n\nSolltet Ihr nach der Anmeldung unerwartet verhindert sein\, sagt Eure Teilnahme bitte unter Main-Kinzig@dghk-hessen.de ab! \n\n\n\nWir freuen uns auf einen tollen Nachmittag mit viel Zeit zum Spielen\, Austauschen und Kennenlernen!
URL:https://sandbox.dghk-hessen.de/event/spielenachmittag-main-kinzig/
LOCATION:Kleiner Anton\, Niedergründauer Straße 17a\, Gründau\, 63548
CATEGORIES:Spieltreff
ORGANIZER;CN="Desiree Koslowski":MAILTO:main-kinzig@dghk-hessen.de
END:VEVENT
BEGIN:VEVENT
DTSTART;TZID=Europe/Berlin:20250121T200000
DTEND;TZID=Europe/Berlin:20250121T220000
DTSTAMP:20260421T072119
CREATED:20241203T214405Z
LAST-MODIFIED:20250119T160553Z
UID:10000338-1737489600-1737496800@sandbox.dghk-hessen.de
SUMMARY:Elternstammtisch Lokalgruppe Mittelhessen
DESCRIPTION:Veranstaltung zum Austausch für Eltern hochbegabter Kinder. Wir treffen uns wieder via Zoom. Anmeldung an Mittelhessen@dghk-hessen.de
URL:https://sandbox.dghk-hessen.de/event/elternstammtisch-lokalgruppe-mittelhessen/
LOCATION:Online
CATEGORIES:Gesprächskreis
ORGANIZER;CN="Lokalgruppe Mittelhessen":MAILTO:mittelhessen@dghk-hessen.de
END:VEVENT
END:VCALENDAR