BEGIN:VCALENDAR
VERSION:2.0
PRODID:-//DGhK RV Hessen e.V. - ECPv6.15.17.1//NONSGML v1.0//EN
CALSCALE:GREGORIAN
METHOD:PUBLISH
X-ORIGINAL-URL:https://sandbox.dghk-hessen.de
X-WR-CALDESC:Veranstaltungen für DGhK RV Hessen e.V.
REFRESH-INTERVAL;VALUE=DURATION:PT1H
X-Robots-Tag:noindex
X-PUBLISHED-TTL:PT1H
BEGIN:VTIMEZONE
TZID:Europe/Berlin
BEGIN:DAYLIGHT
TZOFFSETFROM:+0100
TZOFFSETTO:+0200
TZNAME:CEST
DTSTART:20240331T010000
END:DAYLIGHT
BEGIN:STANDARD
TZOFFSETFROM:+0200
TZOFFSETTO:+0100
TZNAME:CET
DTSTART:20241027T010000
END:STANDARD
BEGIN:DAYLIGHT
TZOFFSETFROM:+0100
TZOFFSETTO:+0200
TZNAME:CEST
DTSTART:20250330T010000
END:DAYLIGHT
BEGIN:STANDARD
TZOFFSETFROM:+0200
TZOFFSETTO:+0100
TZNAME:CET
DTSTART:20251026T010000
END:STANDARD
BEGIN:DAYLIGHT
TZOFFSETFROM:+0100
TZOFFSETTO:+0200
TZNAME:CEST
DTSTART:20260329T010000
END:DAYLIGHT
BEGIN:STANDARD
TZOFFSETFROM:+0200
TZOFFSETTO:+0100
TZNAME:CET
DTSTART:20261025T010000
END:STANDARD
END:VTIMEZONE
BEGIN:VEVENT
DTSTART;TZID=Europe/Berlin:20250510T150000
DTEND;TZID=Europe/Berlin:20250510T180000
DTSTAMP:20260421T162143
CREATED:20250417T210427Z
LAST-MODIFIED:20250509T122439Z
UID:10000414-1746889200-1746900000@sandbox.dghk-hessen.de
SUMMARY:Spielenachmittag Main-Kinzig
DESCRIPTION:Board games. Home hobby leisure with children. Family fun\, digital detox\, mental health Quarantine games\, gifts for family\, play background\n\n\n\nWir freuen uns\, einen Spielenachmittag für Familien in der Region Main-Kinzig anbieten zu können! Von 0 bis 99 Jahren sind alle willkommen! \n\n\n\nAn dem Nachmittag wollen wir uns neben tollen Spielen auch mit dem Thema „Licht und Farben“ beschäftigen.  \n\n\n\nUnser Spielenachmittag findet im Gemeindehaus der Evangelischen Kirche\, Paul-Gerhardt-Str.2 in Gründau-Lieblos statt. \n\n\n\nNeben guter Laune freuen wir uns\, wenn jede Familie 1-2 Spiele und eine Kleinigkeit fürs Fingerfood-Büfett beisteuert. \n\n\n\nHinweis: Die Aufsichtspflicht liegt während der gesamten Veranstaltung bei den Eltern. \n\n\n\nTickets können vom 21.04.-08.05.2025 (15:00 Uhr) nach Verfügbarkeit erworben werden. Zum Nachweis der Mitgliedschaft ist die Mitgliedsnummer anzugeben. Der Verkauf der kostenfreien Mitglied-Tickets erfolgt vorbehaltlich einer Prüfung der Mitgliedschaft. \n\n\n\n\n\n\n\n\n\n\n\n\n\n\n\n\n\n\n\n\n\nIch freue mich auf einen abwechslungsreichen und fröhlichen Nachmittag! \n\n\n\nDesiree Koslowski
URL:https://sandbox.dghk-hessen.de/event/spielenachmittag-main-kinzig-3/
LOCATION:Evangelische Kirchengemeinde Auf dem Berg\, Paul-Gerhardt-Str. 2\, 63584 Gründau
CATEGORIES:Spieltreff
ATTACH;FMTTYPE=image/jpeg:https://sandbox.dghk-hessen.de/wp-content/uploads/2025/02/AdobeStock_462648606-scaled.jpeg
END:VEVENT
BEGIN:VEVENT
DTSTART;TZID=Europe/Berlin:20250516T143000
DTEND;TZID=Europe/Berlin:20250516T170000
DTSTAMP:20260421T162143
CREATED:20250311T223040Z
LAST-MODIFIED:20250516T110444Z
UID:10000393-1747405800-1747414800@sandbox.dghk-hessen.de
SUMMARY:Führung durch das ESA-Satellitenkontrollzentrum Darmstadt
DESCRIPTION:Für Kinder (ab zehn Jahren) und Jugendliche  der Lokalgruppe Frankfurt und Umland \n\n\n\nPanorama of the Main Control Room at ESOC\, ESA’s European Space Operations Centre\, Darmstadt\, Germany\, taken in 2012.\n\nPhoto: ©ESA/J. Mai\n\n\n\nWir haben für die Kinder und Jugendlichen unserer Lokalgruppe zwei individuelle Gruppenführungen durch das ESA-Satellitenkontrollzentrum gebucht. Die Führung dauert ca. 90 Minuten und umfasst eine kurze Filmeinführung sowie die Besichtigung der Satellitenkontrollräume\, z.B. des Hauptkontrollraums. Weitere Stationen sind unter anderem das Zwillingsmodell der Raumsonde Rosetta sowie weitere missionsspezifische Kontrollräume. \n\n\n\n\n\nTeilnahmebedingungen:Für die Teilnahme an den Führungen beträgt das Mindestalter 10 Jahre. Kinder/Jugendliche ohne erwachsene Begleitperson können nicht teilnehmen. Eine Teilnahme ist nur mit Voranmeldung bei der ESA möglich (eine Liste mit Vornamen\, Nachnamen und Nationalität aller Teilnehmenden ist eine Woche vor der Führung von uns einzureichen).Am Tag der Führung ist zum Einlass von allen Personen ab 16 Jahren ein gültiges Ausweisdokument (Personalausweis oder Reisepass) vorzulegen. \n\n\n\nWeitere Informationen zum Treffpunkt und Ablauf erhalten die Teilnehmenden rechtzeitig vor der Veranstaltung. \n\n\n\nDie Ticketbuchung stellt eine verbindliche Buchung dar. Vorangemeldete Mitglieder haben ein Vorkaufsrecht. Für sie sind die Tickets kostenfrei. Vorangemeldete Nicht-Mitglieder können\, sofern vorhanden\, verbleibende Tickets für 6 Euro pro Person kaufen. \n\n\n\nDa die Plätze streng begrenzt sind und wir möglichst vielen Kindern und Jugendlichen eine Teilnahme ermöglichen wollen\, ist pro Kind nur eine Begleitperson zulässig. Eine Begleitperson kann mehrere (Geschwister-) Kinder anmelden. Die Aufsichtspflicht liegt während der gesamten Veranstaltung bei den Eltern/der erwachsenen Begleitperson. \n\n\n\nVerkaufsschluss ist Mittwoch\, der 30. April 2025. \n\n\n\n\n\n\n\n\n\n\n\n\n\n\n\n\n\n\n\n\n\n\n\n\n\n\n\n\n\n\n\nDie Teilnahme ist nur mit Ticket möglich. Bitte haltet am Tag der Führung zum Check-in Eure Tickets (elektronisch ist ausreichend) bereit. \n\n\n\nWer nach der Anmeldung unerwartet verhindert ist\, sagt bitte per E-Mail an Frankfurt@dghk-hessen.de ab. So können wir die begrenzten Plätze weitergeben. \n\n\n\nWir freuen uns auf einen interessanten und spannenden Nachmittag!  \n\n\n\nSimone Schlosske
URL:https://sandbox.dghk-hessen.de/event/fuehrung-durch-das-esa-satellitenkontrollzentrum-darmstadt-2/
LOCATION:ESA Darmstadt\, Robert-Bosch-Straße 5\, Darmstadt\, 64293\, Germany
CATEGORIES:Ausflug
ATTACH;FMTTYPE=image/jpeg:https://sandbox.dghk-hessen.de/wp-content/uploads/2025/02/ESA_Main_Control_Room_pano-scaled-e1739381636742.jpg
ORGANIZER;CN="Lokalgruppe Frankfurt und Umland":MAILTO:frankfurt@dghk-hessen.de
END:VEVENT
BEGIN:VEVENT
DTSTART;TZID=Europe/Berlin:20250518T143000
DTEND;TZID=Europe/Berlin:20250518T160000
DTSTAMP:20260421T162143
CREATED:20250407T082834Z
LAST-MODIFIED:20250501T172009Z
UID:10000398-1747578600-1747584000@sandbox.dghk-hessen.de
SUMMARY:Spieltreff Smarties: 6-7 Jahre
DESCRIPTION:Spiel- und Vernetzungsnachmittag in Oberursel \n\n\n\nGerne bieten wir einen Spielnachmittag für Kinder an. Gleichzeitig sollen sich die Eltern vernetzen und austauschen können. Zum Spieltreff für die älteren Kinder geht es hier: Spieltreff Smarties 8-10 Jahre \n\n\n\nDie Treffen finden in der Regel jeden 3. Sonntag im Monat zur gleichen Zeit im Kinderhaus Oberursel statt. Zukünftige Termine sind auch auf der Seite der Lokalgruppe Frankfurt und Umland zu finden. \n\n\n\n\n\nJedes Kind bringt bitte 1-2 Spiele mit. Unser Fokus liegt auf kooperativen Spielen\, in denen wir als Team gewinnen. Wir entscheiden dann gemeinsam\, welche Spiele wir spielen.Über zuckerfreie Kleinigkeiten an Snacks freuen wir uns. Getränke und Kaffee werden von uns bereitgestellt.Hinweis: Die Aufsichtspflicht liegt während der gesamten Veranstaltung bei den Eltern. \n\n\n\nWer teilnehmen möchte\, erwirbt bitte pro Kind ein Ticket (ab 01.05.2025). Der Verkauf von kostenfreien Mitglied-Tickets erfolgt vorbehaltlich einer Prüfung der Mitgliedschaft. Es stehen Plätze (Tickets) für 5 Kinder zur Verfügung. Verkaufsschluss ist der 15.05.2025. \n\n\n\n\n\n\n\n\n\n\n\n\n\n\n\nSolltet Ihr nach der Anmeldung unerwartet verhindert sein\, sagt Eure Teilnahme bitte per Mail an Spieltreff-Smarties@dghk-hessen.de ab. So können wir die begrenzten Plätze weitergeben. \n\n\n\nWir freuen uns auf einen tollen Nachmittag mit viel Zeit zum Spielen\, Austauschen und Kennenlernen! \n\n\n\nJelena Simon und Christin Streller
URL:https://sandbox.dghk-hessen.de/event/spieltreff-smarties-6-7-jahre-8/
LOCATION:Kinderhaus Oberursel\, Jean-Sauer-Weg 2\, Oberursel (Taunus)\, Hessen\, 61440\, Deutschland
CATEGORIES:Spieltreff
ATTACH;FMTTYPE=image/jpeg:https://sandbox.dghk-hessen.de/wp-content/uploads/2025/02/Smarties-Beitragsbild-e1739888958647.jpg
END:VEVENT
BEGIN:VEVENT
DTSTART;TZID=Europe/Berlin:20250518T160000
DTEND;TZID=Europe/Berlin:20250518T173000
DTSTAMP:20260421T162143
CREATED:20250407T082653Z
LAST-MODIFIED:20250501T172018Z
UID:10000399-1747584000-1747589400@sandbox.dghk-hessen.de
SUMMARY:Spieltreff Smarties: 8-10 Jahre
DESCRIPTION:Spiel- und Vernetzungsnachmittag in Oberursel \n\n\n\nGerne bieten wir einen Spielnachmittag für Kinder an. Gleichzeitig sollen sich die Eltern vernetzen und austauschen können. Zum Spieltreff für die älteren Kinder geht es hier: Spieltreff Smarties 6-7 Jahre \n\n\n\nDie Treffen finden in der Regel jeden 3. Sonntag im Monat zur gleichen Zeit im Kinderhaus Oberursel statt. Zukünftige Termine sind auch auf der Seite der Lokalgruppe Frankfurt und Umland zu finden. \n\n\n\n\n\nJedes Kind bringt bitte 1-2 Spiele mit. Unser Fokus liegt auf kooperativen Spielen\, in denen wir als Team gewinnen. Wir entscheiden dann gemeinsam\, welche Spiele wir spielen.Über zuckerfreie Kleinigkeiten an Snacks freuen wir uns. Getränke und Kaffee werden von uns bereitgestellt.Hinweis: Die Aufsichtspflicht liegt während der gesamten Veranstaltung bei den Eltern. \n\n\n\nWer teilnehmen möchte\, erwirbt bitte pro Kind ein Ticket (ab 01.05.2025). Der Verkauf von kostenfreien Mitglied-Tickets erfolgt vorbehaltlich einer Prüfung der Mitgliedschaft. Es stehen Plätze (Tickets) für 5 Kinder zur Verfügung. Verkaufsschluss ist der 15.05.2025. \n\n\n\n\n\n\n\n\n\n\n\n\n\n\n\nSolltet Ihr nach der Anmeldung unerwartet verhindert sein\, sagt Eure Teilnahme bitte per Mail an Spieltreff-Smarties@dghk-hessen.de ab. So können wir die begrenzten Plätze weitergeben. \n\n\n\nWir freuen uns auf einen tollen Nachmittag mit viel Zeit zum Spielen\, Austauschen und Kennenlernen! \n\n\n\nJelena Simon und Christin Streller
URL:https://sandbox.dghk-hessen.de/event/spieltreff-smarties-8-10-jahre-8/
LOCATION:Kinderhaus Oberursel\, Jean-Sauer-Weg 2\, Oberursel (Taunus)\, Hessen\, 61440\, Deutschland
CATEGORIES:Spieltreff
ATTACH;FMTTYPE=image/jpeg:https://sandbox.dghk-hessen.de/wp-content/uploads/2025/02/Smarties-Beitragsbild-e1739888958647.jpg
END:VEVENT
BEGIN:VEVENT
DTSTART;TZID=Europe/Berlin:20250521T193000
DTEND;TZID=Europe/Berlin:20250521T210000
DTSTAMP:20260421T162143
CREATED:20250509T110830Z
LAST-MODIFIED:20250509T110832Z
UID:10000419-1747855800-1747861200@sandbox.dghk-hessen.de
SUMMARY:Teenager-Gesprächskreis
DESCRIPTION:Adobe Stock | #237746377\n\n\n\nTeenies unter sich \n\n\n\nNur für Vereinsmitglieder. \n\n\n\nTeenies zwischen 11 und 15 Jahren können sich hier miteinander vernetzen\, Erfahrungen austauschen und neue Freundschaften knüpfen. Wie in allen Gesprächskreisen entscheiden die Teilnehmerinnen und Teilnehmer über die Themen. Auch der Austausch über manch schwierige Situation in der Schule ist hier explizit erlaubt und erwünscht. \n\n\n\nDer Gesprächskreis findet online über Zoom statt und wird moderiert von Saskia Baisch-Zimmer\, Berufsschullehrerin und Fachbuchautorin. \n\n\n\nDamit wir alle in einer vertrauensvollen und respektvollen Atmosphäre miteinander sprechen können\, beachtet bitte folgende Regeln: \n\n\n\n\nKamera einschalten: Die Teilnahme erfolgt mit eingeschalteter Kamera und gut sichtbarer teilnehmenden Person\, damit wir ein persönliches Gesprächsgefühl schaffen können.\n\n\n\nVorname als Nutzername: Bitte verwendet mindestens Euren Vornamen als Anzeige-Namen\, damit wir uns gegenseitig ansprechen können.\n\n\n\nKeine Aufzeichnungen: Bild- oder Tonaufnahmen während des Gesprächs sind nicht gestattet\, um die Vertraulichkeit zu gewährleisten.\n\n\n\n\nVertraulichkeit und Verschwiegenheit: Wir legen großen Wert auf gegenseitiges Vertrauen. Daher sichern wir uns zu\, dass sensible Inhalte\, insbesondere gesundheitliche und persönliche Daten\, nicht außerhalb der Gruppe geteilt werden. Ebenso werden keine Informationen in Verbindung mit bestimmten Personen weitergegeben. \n\n\n\nWir danken Euch für Euer Verständnis und Eure Unterstützung\, um einen sicheren Raum für alle zu schaffen! \n\n\n\nZur besseren Vernetzung dürfen die Teilnehmenden ihre Kontaktdaten (Handynummer) austauschen.  \n\n\n\nWer teilnehmen möchte\, kann sich über das Online-Anmeldeformular anmelden. Anmeldeschluss ist 16 Uhr am Tag des Gesprächskreises. Bitte zum Nachweis der Mitgliedschaft die Mitgliedsnummer angeben! Ohne korrekte Mitgliedsnummer ist eine Teilnahme leider nicht möglich. Den Zoom-Link versenden wir am Nachmittag vor dem Gesprächskreis. \n\n\n\n\n\n\n\nSolltet Ihr nach der Anmeldung unerwartet verhindert sein\, sagt Eure Teilnahme bitte ab! \n\n\n\nIch freue mich auf Euch! \n\n\n\nSaskia Baisch-Zimmer
URL:https://sandbox.dghk-hessen.de/event/teenager-gespraechskreis-8/
LOCATION:Online
CATEGORIES:Gesprächskreis
ATTACH;FMTTYPE=image/jpeg:https://sandbox.dghk-hessen.de/wp-content/uploads/2025/02/AdobeStock_237746377-scaled.jpeg
ORGANIZER;CN="Saskia Baisch-Zimmer":MAILTO:Baisch-Zimmer@dghk-hessen.de
END:VEVENT
BEGIN:VEVENT
DTSTART;TZID=Europe/Berlin:20250523T200000
DTEND;TZID=Europe/Berlin:20250523T220000
DTSTAMP:20260421T162143
CREATED:20250429T190204Z
LAST-MODIFIED:20250429T190717Z
UID:10000417-1748030400-1748037600@sandbox.dghk-hessen.de
SUMMARY:Gesprächskreis Underachiever
DESCRIPTION:Der nächste Termin steht an. Nach dem erfolgreichen Start möchten wir gerne den Gesprächskreis weiterführen. Es sind alle herzlich eingeladen sich anzumelden. \n\n\n\nZu diesem Termin ist das Thema: Eltern – Kind (Teenager GK) \n\n\n\nDas Treffen wird als Online-Zoommeeting stattfinden. \n\n\n\nWer teilnehmen möchte\, meldet sich bitte über das Anmeldeformular an. Anmeldungen sind bis zum 22.05.2025 möglich. \n\n\n\nDer Zoom-Link wird am Tag des Gesprächskreises versendet. \n\n\n\n\n\n\n\nSolltet ihr nach Anmeldung unerwartet verhindert sein\, sagt Eure Teilnahme bitte per Mail an markus.brandes@dghk-hessen.de ab. So können wir die begrenzten Plätze weitergeben.
URL:https://sandbox.dghk-hessen.de/event/gespraechskreis-underachiever-4/
LOCATION:Online
CATEGORIES:Gesprächskreis
ATTACH;FMTTYPE=image/png:https://sandbox.dghk-hessen.de/wp-content/uploads/2025/04/image2.png
ORGANIZER;CN="Markus Brandes":MAILTO:markus.brandes@dghk-hessen.de
END:VEVENT
END:VCALENDAR